BEGIN:VCALENDAR
VERSION:2.0
PRODID:-//MX-5 Owners Club - ECPv6.15.20//NONSGML v1.0//EN
CALSCALE:GREGORIAN
METHOD:PUBLISH
X-WR-CALNAME:MX-5 Owners Club
X-ORIGINAL-URL:https://staging.mx5oc.co.uk
X-WR-CALDESC:Events for MX-5 Owners Club
REFRESH-INTERVAL;VALUE=DURATION:PT1H
X-Robots-Tag:noindex
X-PUBLISHED-TTL:PT1H
BEGIN:VTIMEZONE
TZID:Europe/London
BEGIN:DAYLIGHT
TZOFFSETFROM:+0000
TZOFFSETTO:+0100
TZNAME:BST
DTSTART:20250330T010000
END:DAYLIGHT
BEGIN:STANDARD
TZOFFSETFROM:+0100
TZOFFSETTO:+0000
TZNAME:GMT
DTSTART:20251026T010000
END:STANDARD
BEGIN:DAYLIGHT
TZOFFSETFROM:+0000
TZOFFSETTO:+0100
TZNAME:BST
DTSTART:20260329T010000
END:DAYLIGHT
BEGIN:STANDARD
TZOFFSETFROM:+0100
TZOFFSETTO:+0000
TZNAME:GMT
DTSTART:20261025T010000
END:STANDARD
BEGIN:DAYLIGHT
TZOFFSETFROM:+0000
TZOFFSETTO:+0100
TZNAME:BST
DTSTART:20270328T010000
END:DAYLIGHT
BEGIN:STANDARD
TZOFFSETFROM:+0100
TZOFFSETTO:+0000
TZNAME:GMT
DTSTART:20271031T010000
END:STANDARD
END:VTIMEZONE
BEGIN:VEVENT
DTSTART;VALUE=DATE:20260426
DTEND;VALUE=DATE:20260427
DTSTAMP:20260426T034416
CREATED:20250831T125457Z
LAST-MODIFIED:20260127T095116Z
UID:10013538-1777161600-1777247999@staging.mx5oc.co.uk
SUMMARY:Tyne Tees – A Strong Heartbeat and Memorial event for Karen Barclay.
DESCRIPTION:Last Updated 26th January 2026 with start times. \nBrian & Veronica Crowther will once again lead and Organise our Heartbeat and memorial event for Karen Barclay. Karen was a lovely lady who until a couple of years ago was a active member of the MX-5 Owners Club Tyne Tees family until she took ill and sadly died late 2025. We do have permission from the family to advertise this memorial event. \nWe have been to the Goathland Tea Room and the usual 10% discount will be given to the members who order their food from the Tearoom menu using the blue button on the monthly emails. \nMeet and Greet at the  Middlesbrough & District Motor Club from 10am for a 10.30am Event Run start. Tulip Maps will be available on the day. \n 
URL:https://staging.mx5oc.co.uk/event/tyne-tees-a-strong-heartbeat/
LOCATION:Middlesbrough & District Motor Club\, TS8 0RP
CATEGORIES:Tyne Tees Diary
ATTACH;FMTTYPE=image/jpeg:https://staging.mx5oc.co.uk/wp-content/uploads/2025/08/2026-Goathland-02-2-scaled.jpg
END:VEVENT
BEGIN:VEVENT
DTSTART;VALUE=DATE:20260426
DTEND;VALUE=DATE:20260427
DTSTAMP:20260426T034417
CREATED:20251124T203438Z
LAST-MODIFIED:20251124T203438Z
UID:10013916-1777161600-1777247999@staging.mx5oc.co.uk
SUMMARY:Cheshire & North Wales - Drive-it Day Run
DESCRIPTION:Run hosted by Natalia on National Drive-it Day. Details to follow.
URL:https://staging.mx5oc.co.uk/event/cheshire-north-wales-drive-it-day-run/
CATEGORIES:Cheshire & North Wales Diary
END:VEVENT
BEGIN:VEVENT
DTSTART;VALUE=DATE:20260426
DTEND;VALUE=DATE:20260427
DTSTAMP:20260426T034417
CREATED:20260115T171538Z
LAST-MODIFIED:20260115T171538Z
UID:10014543-1777161600-1777247999@staging.mx5oc.co.uk
SUMMARY:South West Midlands - April Monthly Drive In Your 5 - National Drive it Day - Hosted by David & Gina
DESCRIPTION:Details to Follow
URL:https://staging.mx5oc.co.uk/event/south-west-midlands-april-monthly-drive-in-your-5-national-drive-it-day-hosted-by-david-gina/
LOCATION:TBA
CATEGORIES:South West Midlands Diary
END:VEVENT
BEGIN:VEVENT
DTSTART;VALUE=DATE:20260426
DTEND;VALUE=DATE:20260427
DTSTAMP:20260426T034417
CREATED:20260116T140439Z
LAST-MODIFIED:20260116T140439Z
UID:10014583-1777161600-1777247999@staging.mx5oc.co.uk
SUMMARY:North West - Reservoirs Run
DESCRIPTION:Further details from Phil and Nick to follow
URL:https://staging.mx5oc.co.uk/event/north-west-reservoirs-run/
CATEGORIES:North West Diary
END:VEVENT
BEGIN:VEVENT
DTSTART;TZID=Europe/London:20260426T103000
DTEND;TZID=Europe/London:20260426T170000
DTSTAMP:20260426T034417
CREATED:20250917T140951Z
LAST-MODIFIED:20251015T160043Z
UID:10013632-1777199400-1777222800@staging.mx5oc.co.uk
SUMMARY:South Wales – Monthly Sunday Run
DESCRIPTION:Run organiser is Michele Whiting. \nDetails to follow.
URL:https://staging.mx5oc.co.uk/event/south-wales-monthly-sunday-run-6/
CATEGORIES:South Wales Diary
END:VEVENT
BEGIN:VEVENT
DTSTART;TZID=Europe/London:20260426T120000
DTEND;TZID=Europe/London:20260426T153000
DTSTAMP:20260426T034417
CREATED:20241125T132701Z
LAST-MODIFIED:20260114T183954Z
UID:10014463-1777204800-1777217400@staging.mx5oc.co.uk
SUMMARY:Kent - Monthly Meeting at Brookers Oast
DESCRIPTION:Monthly Club Meeting – Everyone Welcome \nCome along and join us for our regular monthly Club meeting\, open to all\, members\, non-members and anyone interested in finding out more. \nThese informal meetings are a great opportunity to: \n\nCatch up with other Members\nMeet friendly\, like-minded MX-5 owners\nLearn more about the Club and what we get up to\,\nAsk questions and see if the club is right for you\n\nThere’s no obligation to join — you’re very welcome to just turn up\, come and say hello\, and enjoy!
URL:https://staging.mx5oc.co.uk/event/brookers-oast-2/2026-04-26/
LOCATION:NorthThames_web
CATEGORIES:Kent diary
ATTACH;FMTTYPE=image/jpeg:https://staging.mx5oc.co.uk/wp-content/uploads/2024/11/Brookers-Oast-7-1.jpg
END:VEVENT
END:VCALENDAR