BEGIN:VCALENDAR
VERSION:2.0
PRODID:-//MX-5 Owners Club - ECPv6.15.20//NONSGML v1.0//EN
CALSCALE:GREGORIAN
METHOD:PUBLISH
X-WR-CALNAME:MX-5 Owners Club
X-ORIGINAL-URL:https://staging.mx5oc.co.uk
X-WR-CALDESC:Events for MX-5 Owners Club
REFRESH-INTERVAL;VALUE=DURATION:PT1H
X-Robots-Tag:noindex
X-PUBLISHED-TTL:PT1H
BEGIN:VTIMEZONE
TZID:Europe/London
BEGIN:DAYLIGHT
TZOFFSETFROM:+0000
TZOFFSETTO:+0100
TZNAME:BST
DTSTART:20250330T010000
END:DAYLIGHT
BEGIN:STANDARD
TZOFFSETFROM:+0100
TZOFFSETTO:+0000
TZNAME:GMT
DTSTART:20251026T010000
END:STANDARD
BEGIN:DAYLIGHT
TZOFFSETFROM:+0000
TZOFFSETTO:+0100
TZNAME:BST
DTSTART:20260329T010000
END:DAYLIGHT
BEGIN:STANDARD
TZOFFSETFROM:+0100
TZOFFSETTO:+0000
TZNAME:GMT
DTSTART:20261025T010000
END:STANDARD
BEGIN:DAYLIGHT
TZOFFSETFROM:+0000
TZOFFSETTO:+0100
TZNAME:BST
DTSTART:20270328T010000
END:DAYLIGHT
BEGIN:STANDARD
TZOFFSETFROM:+0100
TZOFFSETTO:+0000
TZNAME:GMT
DTSTART:20271031T010000
END:STANDARD
END:VTIMEZONE
BEGIN:VEVENT
DTSTART;TZID=Europe/London:20260131T120000
DTEND;TZID=Europe/London:20260131T163000
DTSTAMP:20260425T045255
CREATED:20251208T121808Z
LAST-MODIFIED:20260106T232707Z
UID:10014306-1769860800-1769877000@staging.mx5oc.co.uk
SUMMARY:East Sussex and Downs - Annual Charity Raffle Lunch
DESCRIPTION:Our annual charity raffle lunch to be held at the Squire & Horse on Saturday 31st January 2026 at 12.00pm.  The raffle is in aid of the Chestnut Tree Children’s Hospice. \nPlease bring a raffle price and let us know if you would like to attend
URL:https://staging.mx5oc.co.uk/event/annual-charity-raffle-lunch-squire-horse-saturday-31st-january-2026/
LOCATION:The Squire & Horse\, Bury\, Pulborough\, West Sussex\, RH20 1NS\, United Kingdom
CATEGORIES:East Sussex and Downs Diary
END:VEVENT
BEGIN:VEVENT
DTSTART;TZID=Europe/London:20260131T193000
DTEND;TZID=Europe/London:20260131T220000
DTSTAMP:20260425T045255
CREATED:20251124T203142Z
LAST-MODIFIED:20251218T170720Z
UID:10013915-1769887800-1769896800@staging.mx5oc.co.uk
SUMMARY:Cheshire & North Wales – Social Night
DESCRIPTION:Social night organised by John & Suzy at Kans Oriental Restaurant\, Sandbach. Please register your interest by 16th January 2026. We’ll also need to know what food you’ll like to eat!
URL:https://staging.mx5oc.co.uk/event/cheshire-north-wales-social-night/
LOCATION:Kans Oriental Restaurant\, 1 Green St\, Sandbach\, CW11 1GX\, United Kingdom
CATEGORIES:Cheshire & North Wales Diary
END:VEVENT
END:VCALENDAR