BEGIN:VCALENDAR
VERSION:2.0
PRODID:-//MX-5 Owners Club - ECPv6.15.20//NONSGML v1.0//EN
CALSCALE:GREGORIAN
METHOD:PUBLISH
X-WR-CALNAME:MX-5 Owners Club
X-ORIGINAL-URL:https://staging.mx5oc.co.uk
X-WR-CALDESC:Events for MX-5 Owners Club
REFRESH-INTERVAL;VALUE=DURATION:PT1H
X-Robots-Tag:noindex
X-PUBLISHED-TTL:PT1H
BEGIN:VTIMEZONE
TZID:Europe/London
BEGIN:DAYLIGHT
TZOFFSETFROM:+0000
TZOFFSETTO:+0100
TZNAME:BST
DTSTART:20210328T010000
END:DAYLIGHT
BEGIN:STANDARD
TZOFFSETFROM:+0100
TZOFFSETTO:+0000
TZNAME:GMT
DTSTART:20211031T010000
END:STANDARD
BEGIN:DAYLIGHT
TZOFFSETFROM:+0000
TZOFFSETTO:+0100
TZNAME:BST
DTSTART:20220327T010000
END:DAYLIGHT
BEGIN:STANDARD
TZOFFSETFROM:+0100
TZOFFSETTO:+0000
TZNAME:GMT
DTSTART:20221030T010000
END:STANDARD
BEGIN:DAYLIGHT
TZOFFSETFROM:+0000
TZOFFSETTO:+0100
TZNAME:BST
DTSTART:20230326T010000
END:DAYLIGHT
BEGIN:STANDARD
TZOFFSETFROM:+0100
TZOFFSETTO:+0000
TZNAME:GMT
DTSTART:20231029T010000
END:STANDARD
END:VTIMEZONE
BEGIN:VEVENT
DTSTART;TZID=Europe/London:20221211T080000
DTEND;TZID=Europe/London:20221211T113000
DTSTAMP:20260420T045702
CREATED:20241121T135538Z
LAST-MODIFIED:20251020T132456Z
UID:10006049-1670745600-1670758200@staging.mx5oc.co.uk
SUMMARY:South Central Black Swan Car Meet
DESCRIPTION:A meet for all cars of interest; classic and modern \nMany of our members attend on a regular basis. \nIt is held in the car park and adjoining field of the Public House with room for 200 cars or more. \nThere are refreshments available on site including breakfast rolls and tea & coffee. \nWe will be spread throughout the show\, depending on arrival time \nWe often drive to Ockham Bites Café at about 10.15am for a full breakfast or rolls.
URL:https://staging.mx5oc.co.uk/event/black-swan-classic-car-meet/2022-12-11/
LOCATION:Black Swan\, Ockham\, Old Lane\, Cobham\, Surrey\, KT11 1NG
CATEGORIES:South Central Diary
END:VEVENT
BEGIN:VEVENT
DTSTART;TZID=Europe/London:20221214T100000
DTEND;TZID=Europe/London:20221214T140000
DTSTAMP:20260420T045702
CREATED:20241121T135538Z
LAST-MODIFIED:20241121T135538Z
UID:10006366-1671012000-1671026400@staging.mx5oc.co.uk
SUMMARY:WESSEX AREA - Midweek Meet
DESCRIPTION:
URL:https://staging.mx5oc.co.uk/event/wessex-area-midweek-meet-3/2022-12-14/
LOCATION:Parking at The Motorist
CATEGORIES:Wessex Diary
END:VEVENT
BEGIN:VEVENT
DTSTART;TZID=Europe/London:20221214T183000
DTEND;TZID=Europe/London:20221214T184500
DTSTAMP:20260420T045702
CREATED:20241121T135538Z
LAST-MODIFIED:20241121T135538Z
UID:10006601-1671042600-1671043500@staging.mx5oc.co.uk
SUMMARY:WESTERN Club Night at The Cross Hands
DESCRIPTION:
URL:https://staging.mx5oc.co.uk/event/club-night-at-the-cross-hands/2022-12-14/
LOCATION:Yorkshire Ridings
CATEGORIES:Western Diary
END:VEVENT
BEGIN:VEVENT
DTSTART;TZID=Europe/London:20221221T190000
DTEND;TZID=Europe/London:20221221T223000
DTSTAMP:20260420T045702
CREATED:20241121T135538Z
LAST-MODIFIED:20241121T135538Z
UID:10006685-1671649200-1671661800@staging.mx5oc.co.uk
SUMMARY:Western Club Night at The Salt House Clevedon
DESCRIPTION:
URL:https://staging.mx5oc.co.uk/event/club-night-at-the-salt-house-clevedon/2022-12-21/
LOCATION:peaks_pennines_web
CATEGORIES:Western Diary
END:VEVENT
BEGIN:VEVENT
DTSTART;TZID=Europe/London:20221228T190000
DTEND;TZID=Europe/London:20221228T210000
DTSTAMP:20260420T045702
CREATED:20241121T135538Z
LAST-MODIFIED:20241121T135538Z
UID:10006454-1672254000-1672261200@staging.mx5oc.co.uk
SUMMARY:WESSEX AREA - Monthly Club Meeting
DESCRIPTION:
URL:https://staging.mx5oc.co.uk/event/23927/2022-12-28/
LOCATION:United Kingdom
CATEGORIES:Wessex Diary
END:VEVENT
END:VCALENDAR