BEGIN:VCALENDAR
VERSION:2.0
PRODID:-//MX-5 Owners Club - ECPv6.15.20//NONSGML v1.0//EN
CALSCALE:GREGORIAN
METHOD:PUBLISH
X-WR-CALNAME:MX-5 Owners Club
X-ORIGINAL-URL:https://staging.mx5oc.co.uk
X-WR-CALDESC:Events for MX-5 Owners Club
REFRESH-INTERVAL;VALUE=DURATION:PT1H
X-Robots-Tag:noindex
X-PUBLISHED-TTL:PT1H
BEGIN:VTIMEZONE
TZID:Europe/London
BEGIN:DAYLIGHT
TZOFFSETFROM:+0000
TZOFFSETTO:+0100
TZNAME:BST
DTSTART:20220327T010000
END:DAYLIGHT
BEGIN:STANDARD
TZOFFSETFROM:+0100
TZOFFSETTO:+0000
TZNAME:GMT
DTSTART:20221030T010000
END:STANDARD
BEGIN:DAYLIGHT
TZOFFSETFROM:+0000
TZOFFSETTO:+0100
TZNAME:BST
DTSTART:20230326T010000
END:DAYLIGHT
BEGIN:STANDARD
TZOFFSETFROM:+0100
TZOFFSETTO:+0000
TZNAME:GMT
DTSTART:20231029T010000
END:STANDARD
BEGIN:DAYLIGHT
TZOFFSETFROM:+0000
TZOFFSETTO:+0100
TZNAME:BST
DTSTART:20240331T010000
END:DAYLIGHT
BEGIN:STANDARD
TZOFFSETFROM:+0100
TZOFFSETTO:+0000
TZNAME:GMT
DTSTART:20241027T010000
END:STANDARD
END:VTIMEZONE
BEGIN:VEVENT
DTSTART;TZID=Europe/London:20230712T183000
DTEND;TZID=Europe/London:20230712T184500
DTSTAMP:20260420T062820
CREATED:20241121T135538Z
LAST-MODIFIED:20241121T135538Z
UID:10006608-1689186600-1689187500@staging.mx5oc.co.uk
SUMMARY:WESTERN Club Night at The Cross Hands
DESCRIPTION:
URL:https://staging.mx5oc.co.uk/event/club-night-at-the-cross-hands/2023-07-12/
LOCATION:Yorkshire Ridings
CATEGORIES:Western Diary
END:VEVENT
BEGIN:VEVENT
DTSTART;TZID=Europe/London:20230719T180000
DTEND;TZID=Europe/London:20230719T213000
DTSTAMP:20260420T062820
CREATED:20241125T132701Z
LAST-MODIFIED:20251202T161751Z
UID:10007511-1689789600-1689802200@staging.mx5oc.co.uk
SUMMARY:South Wales Area Monthly Meeting – Whitland Area - DECEMBER MEETING CANCELLED - NEXT MEETING JAN 2026
DESCRIPTION:The West Wales Area Club Social Meeting will take place every 3rd Wednesday of the month at The Station House Public House\, St Johns St\, Whitland. SA34 0AP. \nEveryone welcome\, members and non members. \nDelicious meals are available to order. \nWould those wishing to attend please inform Ann Adams just so numbers are known. \nDECEMBER MEETING CANCELLED DUE TO CLASHES WITH CHRISTMAS PARTIES – NEXT MEETING JANUARY 2026
URL:https://staging.mx5oc.co.uk/event/west-wales-area-club-social-meeting/2023-07-19/
LOCATION:The Station House Public House.\, St Johns St\, Whitland\, SA34 0Ap\, United Kingdom
CATEGORIES:South Wales Diary
END:VEVENT
BEGIN:VEVENT
DTSTART;TZID=Europe/London:20230719T190000
DTEND;TZID=Europe/London:20230719T223000
DTSTAMP:20260420T062820
CREATED:20241125T135533Z
LAST-MODIFIED:20250210T124809Z
UID:10007821-1689793200-1689805800@staging.mx5oc.co.uk
SUMMARY:Norfolk Fives Monthly Meeting
DESCRIPTION:The monthly meeting is on the 3rd Wednesday of the month at the Bird in Hand. (March – October) \nPop along and enjoy the food and drink available at the Bird in Hand;; friendly conversation and a little bit of banter. If you are new make yourself known to one of the planning team and we will introduce you to a few people. \nWe look forward to seeing you!
URL:https://staging.mx5oc.co.uk/event/norfolk-fives-monthly-meeting-2/2023-07-19/
LOCATION:Bird in Hand\, Church Rd\, Wreningham\, Norwich\, NR16 1BJ
CATEGORIES:Norfolk Diary
END:VEVENT
BEGIN:VEVENT
DTSTART;TZID=Europe/London:20230719T190000
DTEND;TZID=Europe/London:20230719T223000
DTSTAMP:20260420T062820
CREATED:20241121T135538Z
LAST-MODIFIED:20241121T135538Z
UID:10006692-1689793200-1689805800@staging.mx5oc.co.uk
SUMMARY:Western Club Night at The Salt House Clevedon
DESCRIPTION:
URL:https://staging.mx5oc.co.uk/event/club-night-at-the-salt-house-clevedon/2023-07-19/
LOCATION:peaks_pennines_web
CATEGORIES:Western Diary
END:VEVENT
BEGIN:VEVENT
DTSTART;TZID=Europe/London:20230726T190000
DTEND;TZID=Europe/London:20230726T210000
DTSTAMP:20260420T062820
CREATED:20241121T135538Z
LAST-MODIFIED:20241121T135538Z
UID:10006461-1690398000-1690405200@staging.mx5oc.co.uk
SUMMARY:WESSEX AREA - Monthly Club Meeting
DESCRIPTION:
URL:https://staging.mx5oc.co.uk/event/23927/2023-07-26/
LOCATION:United Kingdom
CATEGORIES:Wessex Diary
END:VEVENT
END:VCALENDAR