BEGIN:VCALENDAR
VERSION:2.0
PRODID:-//MX-5 Owners Club - ECPv6.15.20//NONSGML v1.0//EN
CALSCALE:GREGORIAN
METHOD:PUBLISH
X-WR-CALNAME:MX-5 Owners Club
X-ORIGINAL-URL:https://staging.mx5oc.co.uk
X-WR-CALDESC:Events for MX-5 Owners Club
REFRESH-INTERVAL;VALUE=DURATION:PT1H
X-Robots-Tag:noindex
X-PUBLISHED-TTL:PT1H
BEGIN:VTIMEZONE
TZID:Europe/London
BEGIN:DAYLIGHT
TZOFFSETFROM:+0000
TZOFFSETTO:+0100
TZNAME:BST
DTSTART:20230326T010000
END:DAYLIGHT
BEGIN:STANDARD
TZOFFSETFROM:+0100
TZOFFSETTO:+0000
TZNAME:GMT
DTSTART:20231029T010000
END:STANDARD
BEGIN:DAYLIGHT
TZOFFSETFROM:+0000
TZOFFSETTO:+0100
TZNAME:BST
DTSTART:20240331T010000
END:DAYLIGHT
BEGIN:STANDARD
TZOFFSETFROM:+0100
TZOFFSETTO:+0000
TZNAME:GMT
DTSTART:20241027T010000
END:STANDARD
BEGIN:DAYLIGHT
TZOFFSETFROM:+0000
TZOFFSETTO:+0100
TZNAME:BST
DTSTART:20250330T010000
END:DAYLIGHT
BEGIN:STANDARD
TZOFFSETFROM:+0100
TZOFFSETTO:+0000
TZNAME:GMT
DTSTART:20251026T010000
END:STANDARD
END:VTIMEZONE
BEGIN:VEVENT
DTSTART;TZID=Europe/London:20241027T093000
DTEND;TZID=Europe/London:20241027T153000
DTSTAMP:20260420T080342
CREATED:20241122T113724Z
LAST-MODIFIED:20241122T113724Z
UID:10006815-1730021400-1730043000@staging.mx5oc.co.uk
SUMMARY:The Storm Predictor
DESCRIPTION:
URL:https://staging.mx5oc.co.uk/event/the-storm-predictor/
LOCATION:Stonehaven Market Square\, United Kingdom
CATEGORIES:Grampian Diary
END:VEVENT
BEGIN:VEVENT
DTSTART;TZID=Europe/London:20241027T100000
DTEND;TZID=Europe/London:20241027T101500
DTSTAMP:20260420T080342
CREATED:20241122T113323Z
LAST-MODIFIED:20241122T113323Z
UID:10006780-1730023200-1730024100@staging.mx5oc.co.uk
SUMMARY:NW - Halloween Scary Run
DESCRIPTION:
URL:https://staging.mx5oc.co.uk/event/nw-halloween-scary-run/
LOCATION:Phantom Winger (Ibis) Preston\, 398 Garstang Rd\, Broughton\, Preston\, PR3 5JE\, United Kingdom
CATEGORIES:North West Diary
END:VEVENT
BEGIN:VEVENT
DTSTART;TZID=Europe/London:20241027T100000
DTEND;TZID=Europe/London:20241027T160000
DTSTAMP:20260420T080342
CREATED:20241122T113724Z
LAST-MODIFIED:20241122T113724Z
UID:10006814-1730023200-1730044800@staging.mx5oc.co.uk
SUMMARY:SWA - October Club Run
DESCRIPTION:PLEASE NOTE THAT THE CLOCKS GO BACK ON THE 27TH (extra hour in bed) \nThe October Run will now start in Brecon at Mount Street Parking LD3 7HY due to A40 road closures. \nStart Time:- 10.00 for 10.30 start \nCoffee Stop:- Groe Car Park Builth Wells – choice of coffee shops Parking £2.50 for 2 hrs parking cash/card \nLunch:– Greyhound Inn & Hotel;; 10 Strand Street;; Usk NP15 1LE \n 	 \nMeals to be ordered from the menu of the day but typical examples are:-\n 	 \nWelsh Striploin of Beef\n 	 \nBacon & Stuffed Belly Pork\n 	 \nThyme Roast Chicken\n 	 \nSpiced Carrot Wellington\n\n\n 	 \nAll served with roast & new potatoes;; seasonal veg;; honey roast carrot;; roast parsnip;; Yorkshire pudding & Gravy\n 	 \nChoice of desserts
URL:https://staging.mx5oc.co.uk/event/swa-october-club-run-2/
LOCATION:Mount Street Parking (Near Morrisons)\, Mount St\, Brecon\, LD3 7HY\, United Kingdom
CATEGORIES:South Wales Diary
END:VEVENT
BEGIN:VEVENT
DTSTART;TZID=Europe/London:20241030T094500
DTEND;TZID=Europe/London:20241030T100000
DTSTAMP:20260420T080342
CREATED:20241122T113024Z
LAST-MODIFIED:20241122T113024Z
UID:10006745-1730281500-1730282400@staging.mx5oc.co.uk
SUMMARY:Midweek Breakfast Meet - at Woburn Sands Emporium
DESCRIPTION:Our midweek breakfast for October will be in the restaurant at the Woburn Sands Emporium. \nMeet at 9.45 for a 10am breakfast. \nPlease advise number of attendees in the comments by Friday 25th October. of our midweek breakfasts
URL:https://staging.mx5oc.co.uk/event/midweek-breakfast-meet-at-woburn-sands-emporium/
LOCATION:Woburn Sands Emporium\, Newport Rd\, Woburn Sands\, MK17 8UF\, United Kingdom
CATEGORIES:Milton Keynes & Chilterns Diary
END:VEVENT
BEGIN:VEVENT
DTSTART;TZID=Europe/London:20241031T193000
DTEND;TZID=Europe/London:20241031T230000
DTSTAMP:20260420T080342
CREATED:20241121T135538Z
LAST-MODIFIED:20250530T134110Z
UID:10005805-1730403000-1730415600@staging.mx5oc.co.uk
SUMMARY:North East Midlands – Monthly Meet at The Coopers Arms Weston-on-Trent
DESCRIPTION:Welcome to NEM Monthly Meet at The Coopers Arms. We meet in the large conservatory at about 7-30pm. Some members eat before the meeting. If you would like to reserve a table;; please book directly with The Coopers Arms. \nWe look forward to meeting new and prospective members. Please make yourselves know to us. \nTeam NEM \n  \n 
URL:https://staging.mx5oc.co.uk/event/nem-monthly-meet-the-coopers-arms-weston-on-trent/2024-10-31/
LOCATION:The Coopers Arms\, Weston-on-Trent\, Derby\, Derbyshire\, DE72 2BJ\, United Kingdom
CATEGORIES:North East Midlands Diary
ATTACH;FMTTYPE=image/jpeg:https://staging.mx5oc.co.uk/wp-content/uploads/2024/11/Coopers-Arms.jpg
GEO:52.85158251863;-1.4025076710756
X-APPLE-STRUCTURED-LOCATION;VALUE=URI;X-ADDRESS=The Coopers Arms Weston-on-Trent Derby Derbyshire DE72 2BJ United Kingdom;X-APPLE-RADIUS=500;X-TITLE=Weston-on-Trent:geo:-1.4025076710756,52.85158251863
END:VEVENT
END:VCALENDAR