BEGIN:VCALENDAR
VERSION:2.0
PRODID:-//MX-5 Owners Club - ECPv6.15.20//NONSGML v1.0//EN
CALSCALE:GREGORIAN
METHOD:PUBLISH
X-WR-CALNAME:MX-5 Owners Club
X-ORIGINAL-URL:https://staging.mx5oc.co.uk
X-WR-CALDESC:Events for MX-5 Owners Club
REFRESH-INTERVAL;VALUE=DURATION:PT1H
X-Robots-Tag:noindex
X-PUBLISHED-TTL:PT1H
BEGIN:VTIMEZONE
TZID:Europe/London
BEGIN:DAYLIGHT
TZOFFSETFROM:+0000
TZOFFSETTO:+0100
TZNAME:BST
DTSTART:20230326T010000
END:DAYLIGHT
BEGIN:STANDARD
TZOFFSETFROM:+0100
TZOFFSETTO:+0000
TZNAME:GMT
DTSTART:20231029T010000
END:STANDARD
BEGIN:DAYLIGHT
TZOFFSETFROM:+0000
TZOFFSETTO:+0100
TZNAME:BST
DTSTART:20240331T010000
END:DAYLIGHT
BEGIN:STANDARD
TZOFFSETFROM:+0100
TZOFFSETTO:+0000
TZNAME:GMT
DTSTART:20241027T010000
END:STANDARD
BEGIN:DAYLIGHT
TZOFFSETFROM:+0000
TZOFFSETTO:+0100
TZNAME:BST
DTSTART:20250330T010000
END:DAYLIGHT
BEGIN:STANDARD
TZOFFSETFROM:+0100
TZOFFSETTO:+0000
TZNAME:GMT
DTSTART:20251026T010000
END:STANDARD
END:VTIMEZONE
BEGIN:VEVENT
DTSTART;TZID=Europe/London:20241120T180000
DTEND;TZID=Europe/London:20241120T213000
DTSTAMP:20260420T225322
CREATED:20241125T132701Z
LAST-MODIFIED:20251202T161751Z
UID:10007527-1732125600-1732138200@staging.mx5oc.co.uk
SUMMARY:South Wales Area Monthly Meeting – Whitland Area - DECEMBER MEETING CANCELLED - NEXT MEETING JAN 2026
DESCRIPTION:The West Wales Area Club Social Meeting will take place every 3rd Wednesday of the month at The Station House Public House\, St Johns St\, Whitland. SA34 0AP. \nEveryone welcome\, members and non members. \nDelicious meals are available to order. \nWould those wishing to attend please inform Ann Adams just so numbers are known. \nDECEMBER MEETING CANCELLED DUE TO CLASHES WITH CHRISTMAS PARTIES – NEXT MEETING JANUARY 2026
URL:https://staging.mx5oc.co.uk/event/west-wales-area-club-social-meeting/2024-11-20/
LOCATION:The Station House Public House.\, St Johns St\, Whitland\, SA34 0Ap\, United Kingdom
CATEGORIES:South Wales Diary
END:VEVENT
BEGIN:VEVENT
DTSTART;TZID=Europe/London:20241120T190000
DTEND;TZID=Europe/London:20241120T220000
DTSTAMP:20260420T225322
CREATED:20241122T113212Z
LAST-MODIFIED:20241122T113212Z
UID:10006765-1732129200-1732140000@staging.mx5oc.co.uk
SUMMARY:Northampton Area Curry Night
DESCRIPTION:Last Month’s Curry Night was such a success;; I have been asked if we can have another. \nSo here we go –      If you couldn’t make the last one it’s a 2nd Social Curry Night for our Club Members to come and have a relaxed evening with friends. We do not have to preorder our food;; just roll up at The Lakeside in Northampton (NN4 7YD) at 7 pm for 7.30 pm  If you read this and fancy a fun evening out;; please contact me so I have a heads up of the numbers and can warn the Pub.   Thank You and you can be sure of a warm welcome from all of us.  PS For those who don’t fancy a Curry;; any other meals on the Menu will be available.
URL:https://staging.mx5oc.co.uk/event/northampton-area-curry-night-2/
LOCATION:The Lakeside\, 2 the Lakes\, Northampton\, NN4 7YD\, United Kingdom
CATEGORIES:Northamptonshire Diary
END:VEVENT
BEGIN:VEVENT
DTSTART;TZID=Europe/London:20241120T190000
DTEND;TZID=Europe/London:20241120T223000
DTSTAMP:20260420T225322
CREATED:20241125T135533Z
LAST-MODIFIED:20250210T124809Z
UID:10007837-1732129200-1732141800@staging.mx5oc.co.uk
SUMMARY:Norfolk Fives Monthly Meeting
DESCRIPTION:The monthly meeting is on the 3rd Wednesday of the month at the Bird in Hand. (March – October) \nPop along and enjoy the food and drink available at the Bird in Hand;; friendly conversation and a little bit of banter. If you are new make yourself known to one of the planning team and we will introduce you to a few people. \nWe look forward to seeing you!
URL:https://staging.mx5oc.co.uk/event/norfolk-fives-monthly-meeting-2/2024-11-20/
LOCATION:Bird in Hand\, Church Rd\, Wreningham\, Norwich\, NR16 1BJ
CATEGORIES:Norfolk Diary
END:VEVENT
BEGIN:VEVENT
DTSTART;TZID=Europe/London:20241121T000000
DTEND;TZID=Europe/London:20241121T000000
DTSTAMP:20260420T225322
CREATED:20241122T113136Z
LAST-MODIFIED:20241122T113136Z
UID:10006756-1732147200-1732147200@staging.mx5oc.co.uk
SUMMARY:NEM Midweek Run and Private Tour of Tissington Hall
DESCRIPTION:Hi Everyone;; \nDavid and Ann are in process of arranging a short run and private guided tour of Tissington Hall near Ashbourne. \nPlease see NEM Area Events on the Club forum for more information. Link below.
URL:https://staging.mx5oc.co.uk/event/midweek-run-and-private-tour-of-tissington-hall/
LOCATION:United Kingdom
CATEGORIES:North East Midlands Diary
END:VEVENT
BEGIN:VEVENT
DTSTART;TZID=Europe/London:20241124T000000
DTEND;TZID=Europe/London:20241124T000000
DTSTAMP:20260420T225322
CREATED:20241122T112724Z
LAST-MODIFIED:20241122T112724Z
UID:10006716-1732406400-1732406400@staging.mx5oc.co.uk
SUMMARY:Cheshire and North Wales. John G's Little Run - back by popular demand
DESCRIPTION:Following the success of Johns run in March;; and several members not being able to attend. He’s kindly offered to repeat the day 🙂 \nDetails will follow nearer the time email cnw@mx5.co.uk if you have any questions 🙂
URL:https://staging.mx5oc.co.uk/event/john-gs-little-run-back-by-popular-demand/
LOCATION:United Kingdom
CATEGORIES:Cheshire & North Wales Diary
END:VEVENT
BEGIN:VEVENT
DTSTART;TZID=Europe/London:20241124T100000
DTEND;TZID=Europe/London:20241124T101500
DTSTAMP:20260420T225322
CREATED:20241122T113248Z
LAST-MODIFIED:20241122T113248Z
UID:10006778-1732442400-1732443300@staging.mx5oc.co.uk
SUMMARY:NW - Annual Review and Planning Meeting
DESCRIPTION:
URL:https://staging.mx5oc.co.uk/event/nw-annual-review-and-planning-meeting/
LOCATION:The Crown at Worthington\, Platt Lane\, Standish\, WN1 2XF\, United Kingdom
CATEGORIES:North West Diary
END:VEVENT
BEGIN:VEVENT
DTSTART;TZID=Europe/London:20241127T183000
DTEND;TZID=Europe/London:20241127T210000
DTSTAMP:20260420T225322
CREATED:20241122T112612Z
LAST-MODIFIED:20241122T112612Z
UID:10006703-1732732200-1732741200@staging.mx5oc.co.uk
SUMMARY:Annual Progress Meeting
DESCRIPTION:Annual Progress Meeting at the Anson Farm. \n6.30pm for Carvery / food from the menu \n7.30pm Meeting Starts
URL:https://staging.mx5oc.co.uk/event/annual-progress-meeting-2/
LOCATION:Anson Farm\,\, Anson Farm\, Fleck Way\, Thornaby\, TS17 9LN
CATEGORIES:Tyne Tees Diary
END:VEVENT
BEGIN:VEVENT
DTSTART;TZID=Europe/London:20241127T190000
DTEND;TZID=Europe/London:20241127T220000
DTSTAMP:20260420T225322
CREATED:20241122T112836Z
LAST-MODIFIED:20241122T112836Z
UID:10006732-1732734000-1732744800@staging.mx5oc.co.uk
SUMMARY:Eastern - North West Norfolk (Kings Lynn) Monthly Meeting
DESCRIPTION:
URL:https://staging.mx5oc.co.uk/event/eastern-north-west-norfolk-kings-lynn-monthly-meeting/
LOCATION:Oxford
CATEGORIES:Eastern Diary
END:VEVENT
BEGIN:VEVENT
DTSTART;TZID=Europe/London:20241127T193000
DTEND;TZID=Europe/London:20241127T220000
DTSTAMP:20260420T225322
CREATED:20241125T142740Z
LAST-MODIFIED:20250515T115109Z
UID:10007997-1732735800-1732744800@staging.mx5oc.co.uk
SUMMARY:North West Midlands - Evening Meeting
DESCRIPTION:
URL:https://staging.mx5oc.co.uk/event/north-west-midlands-evening-meeting-2/2024-11-27/
LOCATION:United Kingdom
CATEGORIES:North West Midlands Diary
END:VEVENT
BEGIN:VEVENT
DTSTART;TZID=Europe/London:20241128T193000
DTEND;TZID=Europe/London:20241128T230000
DTSTAMP:20260420T225322
CREATED:20241121T135538Z
LAST-MODIFIED:20250530T134110Z
UID:10005806-1732822200-1732834800@staging.mx5oc.co.uk
SUMMARY:North East Midlands – Monthly Meet at The Coopers Arms Weston-on-Trent
DESCRIPTION:Welcome to NEM Monthly Meet at The Coopers Arms. We meet in the large conservatory at about 7-30pm. Some members eat before the meeting. If you would like to reserve a table;; please book directly with The Coopers Arms. \nWe look forward to meeting new and prospective members. Please make yourselves know to us. \nTeam NEM \n  \n 
URL:https://staging.mx5oc.co.uk/event/nem-monthly-meet-the-coopers-arms-weston-on-trent/2024-11-28/
LOCATION:The Coopers Arms\, Weston-on-Trent\, Derby\, Derbyshire\, DE72 2BJ\, United Kingdom
CATEGORIES:North East Midlands Diary
ATTACH;FMTTYPE=image/jpeg:https://staging.mx5oc.co.uk/wp-content/uploads/2024/11/Coopers-Arms.jpg
GEO:52.85158251863;-1.4025076710756
X-APPLE-STRUCTURED-LOCATION;VALUE=URI;X-ADDRESS=The Coopers Arms Weston-on-Trent Derby Derbyshire DE72 2BJ United Kingdom;X-APPLE-RADIUS=500;X-TITLE=Weston-on-Trent:geo:-1.4025076710756,52.85158251863
END:VEVENT
BEGIN:VEVENT
DTSTART;TZID=Europe/London:20241130T190000
DTEND;TZID=Europe/London:20241130T234500
DTSTAMP:20260420T225322
CREATED:20241122T113358Z
LAST-MODIFIED:20241122T113358Z
UID:10006786-1732993200-1733010300@staging.mx5oc.co.uk
SUMMARY:Oxford Area Annual Festive Dinner and Party
DESCRIPTION:
URL:https://staging.mx5oc.co.uk/event/oxford-area-annual-festive-dinner-and-party/
LOCATION:Mercure Hotel\,Thame\,Lambert.\, London Rd\, Watlington\, Oxfordshire\, OX49 5SQ\, United Kingdom
CATEGORIES:Oxford Diary
END:VEVENT
END:VCALENDAR