BEGIN:VCALENDAR
VERSION:2.0
PRODID:-//MX-5 Owners Club - ECPv6.15.20//NONSGML v1.0//EN
CALSCALE:GREGORIAN
METHOD:PUBLISH
X-WR-CALNAME:MX-5 Owners Club
X-ORIGINAL-URL:https://staging.mx5oc.co.uk
X-WR-CALDESC:Events for MX-5 Owners Club
REFRESH-INTERVAL;VALUE=DURATION:PT1H
X-Robots-Tag:noindex
X-PUBLISHED-TTL:PT1H
BEGIN:VTIMEZONE
TZID:Europe/London
BEGIN:DAYLIGHT
TZOFFSETFROM:+0000
TZOFFSETTO:+0100
TZNAME:BST
DTSTART:20240331T010000
END:DAYLIGHT
BEGIN:STANDARD
TZOFFSETFROM:+0100
TZOFFSETTO:+0000
TZNAME:GMT
DTSTART:20241027T010000
END:STANDARD
BEGIN:DAYLIGHT
TZOFFSETFROM:+0000
TZOFFSETTO:+0100
TZNAME:BST
DTSTART:20250330T010000
END:DAYLIGHT
BEGIN:STANDARD
TZOFFSETFROM:+0100
TZOFFSETTO:+0000
TZNAME:GMT
DTSTART:20251026T010000
END:STANDARD
BEGIN:DAYLIGHT
TZOFFSETFROM:+0000
TZOFFSETTO:+0100
TZNAME:BST
DTSTART:20260329T010000
END:DAYLIGHT
BEGIN:STANDARD
TZOFFSETFROM:+0100
TZOFFSETTO:+0000
TZNAME:GMT
DTSTART:20261025T010000
END:STANDARD
END:VTIMEZONE
BEGIN:VEVENT
DTSTART;TZID=Europe/London:20250122T190000
DTEND;TZID=Europe/London:20250122T220000
DTSTAMP:20260421T054808
CREATED:20241122T113136Z
LAST-MODIFIED:20250108T171900Z
UID:10006759-1737572400-1737583200@staging.mx5oc.co.uk
SUMMARY:North East Midlands - Planning Meeting – Coopers Arms
DESCRIPTION:Hi Everyone; \nIf you arranged an event for us during 2024\, we would be really pleased to see you and say thank you for your efforts. \nWe hope you will come along and join us with lots of ideas for runs and events you would like to add to the calendar for 2025. \nPlease note: the planning meeting will start prompt at 7pm. \nTeam NEM
URL:https://staging.mx5oc.co.uk/event/nem-planning-meeting-coopers-arms/
LOCATION:Coopers Arms\, Weston Hall\, Weston-on-Trent\, Derby\, DE72 2BJ\, United Kingdom
CATEGORIES:North East Midlands Diary
GEO:52.851556602829;-1.4023789250455
X-APPLE-STRUCTURED-LOCATION;VALUE=URI;X-ADDRESS=Coopers Arms Weston Hall Weston-on-Trent Derby DE72 2BJ United Kingdom;X-APPLE-RADIUS=500;X-TITLE=Weston Hall:geo:-1.4023789250455,52.851556602829
END:VEVENT
BEGIN:VEVENT
DTSTART;TZID=Europe/London:20250122T193000
DTEND;TZID=Europe/London:20250122T220000
DTSTAMP:20260421T054808
CREATED:20241125T142740Z
LAST-MODIFIED:20250515T115109Z
UID:10007999-1737574200-1737583200@staging.mx5oc.co.uk
SUMMARY:North West Midlands - Evening Meeting
DESCRIPTION:
URL:https://staging.mx5oc.co.uk/event/north-west-midlands-evening-meeting-2/2025-01-22/
LOCATION:United Kingdom
CATEGORIES:North West Midlands Diary
END:VEVENT
BEGIN:VEVENT
DTSTART;TZID=Europe/London:20250123T080000
DTEND;TZID=Europe/London:20250123T170000
DTSTAMP:20260421T054808
CREATED:20250123T142630Z
LAST-MODIFIED:20250127T135815Z
UID:10011744-1737619200-1737651600@staging.mx5oc.co.uk
SUMMARY:North West - Tulip Trial
DESCRIPTION:xxxxxx
URL:https://staging.mx5oc.co.uk/event/north-west-tulip-trial/
LOCATION:Crown at Worthington\, Platt Lane\, Standish\, WN1 2XF\, United Kingdom
CATEGORIES:North West Diary
ATTACH;FMTTYPE=image/jpeg:https://staging.mx5oc.co.uk/wp-content/uploads/2025/01/Cleveleys-Tulip.jpg
END:VEVENT
BEGIN:VEVENT
DTSTART;TZID=Europe/London:20250125T120000
DTEND;TZID=Europe/London:20250125T160000
DTSTAMP:20260421T054808
CREATED:20241231T110522Z
LAST-MODIFIED:20250114T140959Z
UID:10011417-1737806400-1737820800@staging.mx5oc.co.uk
SUMMARY:East Sussex and Downs -  Annual Charity Raffle lunch Squire & Horse Saturday 25th January 2025
DESCRIPTION:Our annual Charity raffle lunch for the Chestnut Tree Children’s Hospice at the Squire & Horse on Saturday 25th January 2025 at 12.00pm. \nPlease bring along a raffle prize for the raffle.  Booking required and menus will be sent out early January 2025. \nConfirmed attending as at 31st December 2024 \nChris and Heather \nNigel and Louise \nPat and David \nKeith and Jo \nDavid Lawrence \nPaul C \nLiz \nJohn and Rose \nJohn and Ann \nMartin and Nicky \nBrian and Christine \nPaul and Barbara \nDavid and Terri \nHelen and Richard \nGraham \nBarbara
URL:https://staging.mx5oc.co.uk/event/east-sussex-and-downs-annual-charity-raffle-lunch-squire-horse-saturday-25th-january-2025/
LOCATION:The Squire & Horse\, Bury\, Pulborough\, West Sussex\, RH20 1NS\, United Kingdom
CATEGORIES:East Sussex and Downs Diary
END:VEVENT
BEGIN:VEVENT
DTSTART;TZID=Europe/London:20250125T180000
DTEND;TZID=Europe/London:20250125T223000
DTSTAMP:20260421T054808
CREATED:20241122T112724Z
LAST-MODIFIED:20241122T112724Z
UID:10006715-1737828000-1737844200@staging.mx5oc.co.uk
SUMMARY:Cheshire and North Wales. Chinese New Year Social 2025
DESCRIPTION:Hosted by Suzy & John Cartlidge \nMore details to follow
URL:https://staging.mx5oc.co.uk/event/chinese-new-year-social-2025/
LOCATION:Kans Oriental Restaurant\, 1 Green St\, Sandbach\, CW11 1GX\, United Kingdom
CATEGORIES:Cheshire & North Wales Diary
END:VEVENT
BEGIN:VEVENT
DTSTART;TZID=Europe/London:20250126T080000
DTEND;TZID=Europe/London:20250126T170000
DTSTAMP:20260421T054808
CREATED:20250126T123103Z
LAST-MODIFIED:20250127T135841Z
UID:10011765-1737878400-1737910800@staging.mx5oc.co.uk
SUMMARY:South Central - Thruxton Skid Pan Experience
DESCRIPTION:A whole day using the skid pan exclusively in your own car at a cost of £56.50 per car \nPlease email southcentral@mx5oc.co.uk  for reservation information marking the subject as “Skid Pan” \nWe have exclusive use of the skidpan for the whole day. The event is restricted to 30 cars. \nWe run a continuous circuit of cars with each car doing 6 revolutions of the track (if possible) and then leaving for the next vehicle to start
URL:https://staging.mx5oc.co.uk/event/south-central-thruxton-skid-pan-experience/
LOCATION:Thruxton Circuit\, Andover\, Hampshire\, SP11 8PN\, United Kingdom
CATEGORIES:South Central Diary
END:VEVENT
BEGIN:VEVENT
DTSTART;VALUE=DATE:20250127
DTEND;VALUE=DATE:20250128
DTSTAMP:20260421T054808
CREATED:20250127T194033Z
LAST-MODIFIED:20250128T105045Z
UID:10011773-1737936000-1738022399@staging.mx5oc.co.uk
SUMMARY:Peaks & Pennines -
DESCRIPTION:Peaks & Pennines – Sunday Run
URL:https://staging.mx5oc.co.uk/event/peaks-pennines-2/
CATEGORIES:Peaks & Pennines Diary
END:VEVENT
BEGIN:VEVENT
DTSTART;TZID=Europe/London:20250129T100000
DTEND;TZID=Europe/London:20250129T113000
DTSTAMP:20260421T054808
CREATED:20250106T134444Z
LAST-MODIFIED:20250114T141019Z
UID:10011505-1738144800-1738150200@staging.mx5oc.co.uk
SUMMARY:Milton Keynes & Chilterns - Midweek Breakfast Meet - The Mill House Coffee Shop
DESCRIPTION:Returning to a venue we last visited in December 2023. \nMeet at 9.45 for 10am breakfast. \nPlease confirm numbers ASAP via e-mail to mkchiltern@mx5oc.co.uk or on our Facebook Group event as I need to update the venue \nMX5’s not essential if yours is tucked up for the winter. ? \nVenue provides post breakfast shopping opportunity ?
URL:https://staging.mx5oc.co.uk/event/milton-keynes-chilterns-midweek-breakfast-meet-the-mill-house-coffee-shop/
LOCATION:Mill House Coffee Shop\, Olde Watermill Shopping Village\, Mill Lane\, Off Faldo Road\, Barton-le-Clay\, Bedfordshire\, MK45 4RF\, United Kingdom
CATEGORIES:Milton Keynes & Chilterns Diary
END:VEVENT
BEGIN:VEVENT
DTSTART;TZID=Europe/London:20250130T193000
DTEND;TZID=Europe/London:20250130T230000
DTSTAMP:20260421T054808
CREATED:20241121T135538Z
LAST-MODIFIED:20250530T134110Z
UID:10005808-1738265400-1738278000@staging.mx5oc.co.uk
SUMMARY:North East Midlands – Monthly Meet at The Coopers Arms Weston-on-Trent
DESCRIPTION:Welcome to NEM Monthly Meet at The Coopers Arms. We meet in the large conservatory at about 7-30pm. Some members eat before the meeting. If you would like to reserve a table;; please book directly with The Coopers Arms. \nWe look forward to meeting new and prospective members. Please make yourselves know to us. \nTeam NEM \n  \n 
URL:https://staging.mx5oc.co.uk/event/nem-monthly-meet-the-coopers-arms-weston-on-trent/2025-01-30/
LOCATION:The Coopers Arms\, Weston-on-Trent\, Derby\, Derbyshire\, DE72 2BJ\, United Kingdom
CATEGORIES:North East Midlands Diary
ATTACH;FMTTYPE=image/jpeg:https://staging.mx5oc.co.uk/wp-content/uploads/2024/11/Coopers-Arms.jpg
GEO:52.85158251863;-1.4025076710756
X-APPLE-STRUCTURED-LOCATION;VALUE=URI;X-ADDRESS=The Coopers Arms Weston-on-Trent Derby Derbyshire DE72 2BJ United Kingdom;X-APPLE-RADIUS=500;X-TITLE=Weston-on-Trent:geo:-1.4025076710756,52.85158251863
END:VEVENT
END:VCALENDAR