BEGIN:VCALENDAR
VERSION:2.0
PRODID:-//MX-5 Owners Club - ECPv6.15.20//NONSGML v1.0//EN
CALSCALE:GREGORIAN
METHOD:PUBLISH
X-WR-CALNAME:MX-5 Owners Club
X-ORIGINAL-URL:https://staging.mx5oc.co.uk
X-WR-CALDESC:Events for MX-5 Owners Club
REFRESH-INTERVAL;VALUE=DURATION:PT1H
X-Robots-Tag:noindex
X-PUBLISHED-TTL:PT1H
BEGIN:VTIMEZONE
TZID:Europe/London
BEGIN:DAYLIGHT
TZOFFSETFROM:+0000
TZOFFSETTO:+0100
TZNAME:BST
DTSTART:20240331T010000
END:DAYLIGHT
BEGIN:STANDARD
TZOFFSETFROM:+0100
TZOFFSETTO:+0000
TZNAME:GMT
DTSTART:20241027T010000
END:STANDARD
BEGIN:DAYLIGHT
TZOFFSETFROM:+0000
TZOFFSETTO:+0100
TZNAME:BST
DTSTART:20250330T010000
END:DAYLIGHT
BEGIN:STANDARD
TZOFFSETFROM:+0100
TZOFFSETTO:+0000
TZNAME:GMT
DTSTART:20251026T010000
END:STANDARD
BEGIN:DAYLIGHT
TZOFFSETFROM:+0000
TZOFFSETTO:+0100
TZNAME:BST
DTSTART:20260329T010000
END:DAYLIGHT
BEGIN:STANDARD
TZOFFSETFROM:+0100
TZOFFSETTO:+0000
TZNAME:GMT
DTSTART:20261025T010000
END:STANDARD
END:VTIMEZONE
BEGIN:VEVENT
DTSTART;TZID=Europe/London:20250430T093000
DTEND;TZID=Europe/London:20250430T120000
DTSTAMP:20260423T191852
CREATED:20250406T162551Z
LAST-MODIFIED:20250406T162551Z
UID:10012082-1746005400-1746014400@staging.mx5oc.co.uk
SUMMARY:Milton Keynes & Chilterns - Midweek Breakfast Meet - The Bakehouse\, Ashridge House
DESCRIPTION:A new venue (Bakehouse\, Ashridge House) for our regular midweek breakfast suggested by one of our members John Tiler. (Tested ??) \nMeet at 9.30 for breakfast. \nNo reserved area in restaurant but hopefully sufficient room for all of us
URL:https://staging.mx5oc.co.uk/event/milton-keynes-chilterns-midweek-breakfast-meet-the-bakehouse-ashridge-house/
LOCATION:Ashridge House\, Ashridge House Estate\, Berkhamsted\, Hertfordshire\, HP4 1NS
CATEGORIES:Milton Keynes & Chilterns Diary
END:VEVENT
BEGIN:VEVENT
DTSTART;TZID=Europe/London:20250430T183000
DTEND;TZID=Europe/London:20250430T220000
DTSTAMP:20260423T191852
CREATED:20250326T160730Z
LAST-MODIFIED:20250326T160730Z
UID:10012063-1746037800-1746050400@staging.mx5oc.co.uk
SUMMARY:North West - Social Evening
DESCRIPTION:Details to follow
URL:https://staging.mx5oc.co.uk/event/north-west-social-evening/
LOCATION:Crown at Worthington\, Platt Lane\, Standish\, WN1 2XF\, United Kingdom
CATEGORIES:North West Diary
END:VEVENT
BEGIN:VEVENT
DTSTART;TZID=Europe/London:20250430T193000
DTEND;TZID=Europe/London:20250430T213000
DTSTAMP:20260423T191852
CREATED:20250429T190656Z
LAST-MODIFIED:20250429T190708Z
UID:10012639-1746041400-1746048600@staging.mx5oc.co.uk
SUMMARY:Lincolnshire - Evening meeting at the Click'em inn
DESCRIPTION:New venue to try for a monthly meeting spot\, The Click’em Inn\, Swinhope LN8 6BS\, Pub is open from 5pm and serves food until 9pm\, Please arrive for around 7.30pm to join us for the evening\, the Landlord has requested if all MX-5s park at the end of the car park as to cause too much disruption\,
URL:https://staging.mx5oc.co.uk/event/lincolnshire-evening-meeting-at-the-clickem-inn/
LOCATION:West Sussex
CATEGORIES:Lincolnshire Diary
ATTACH;FMTTYPE=image/jpeg:https://staging.mx5oc.co.uk/wp-content/uploads/2025/04/Clickem-inn-3.jpg
END:VEVENT
END:VCALENDAR