BEGIN:VCALENDAR
VERSION:2.0
PRODID:-//MX-5 Owners Club - ECPv6.15.20//NONSGML v1.0//EN
CALSCALE:GREGORIAN
METHOD:PUBLISH
X-WR-CALNAME:MX-5 Owners Club
X-ORIGINAL-URL:https://staging.mx5oc.co.uk
X-WR-CALDESC:Events for MX-5 Owners Club
REFRESH-INTERVAL;VALUE=DURATION:PT1H
X-Robots-Tag:noindex
X-PUBLISHED-TTL:PT1H
BEGIN:VTIMEZONE
TZID:Europe/London
BEGIN:DAYLIGHT
TZOFFSETFROM:+0000
TZOFFSETTO:+0100
TZNAME:BST
DTSTART:20240331T010000
END:DAYLIGHT
BEGIN:STANDARD
TZOFFSETFROM:+0100
TZOFFSETTO:+0000
TZNAME:GMT
DTSTART:20241027T010000
END:STANDARD
BEGIN:DAYLIGHT
TZOFFSETFROM:+0000
TZOFFSETTO:+0100
TZNAME:BST
DTSTART:20250330T010000
END:DAYLIGHT
BEGIN:STANDARD
TZOFFSETFROM:+0100
TZOFFSETTO:+0000
TZNAME:GMT
DTSTART:20251026T010000
END:STANDARD
BEGIN:DAYLIGHT
TZOFFSETFROM:+0000
TZOFFSETTO:+0100
TZNAME:BST
DTSTART:20260329T010000
END:DAYLIGHT
BEGIN:STANDARD
TZOFFSETFROM:+0100
TZOFFSETTO:+0000
TZNAME:GMT
DTSTART:20261025T010000
END:STANDARD
END:VTIMEZONE
BEGIN:VEVENT
DTSTART;TZID=Europe/London:20250622T093000
DTEND;TZID=Europe/London:20250622T113000
DTSTAMP:20260423T020333
CREATED:20250305T232407Z
LAST-MODIFIED:20250605T104852Z
UID:10011864-1750584600-1750591800@staging.mx5oc.co.uk
SUMMARY:South Central – Ramster Gardens Café Breakfast Meet
DESCRIPTION:4th Sunday of each month is our morning  meet at Ramster Gardens\, Chiddingfold (GU8 4SN). \nArrive 9.30am onwards for coffee\, bacon butties and general chit chat. \nThere is no charge to attend but please use the café for refreshments (no picnics please). \nThere is a charge to enter the beautiful gardens and well worth a walk round after our meet.
URL:https://staging.mx5oc.co.uk/event/south-central-ramster-gardens-cafe-breakfast-meet/2025-06-22/
LOCATION:Ramster Gardens Café\, Petworth Rd\, Chiddingfold\, Surrey\, GU8 4SN\, United Kingdom
CATEGORIES:South Central Diary
GEO:51.091379232025;-0.64375988738094
X-APPLE-STRUCTURED-LOCATION;VALUE=URI;X-ADDRESS=Ramster Gardens Café Petworth Rd Chiddingfold Surrey GU8 4SN United Kingdom;X-APPLE-RADIUS=500;X-TITLE=Petworth Rd:geo:-0.64375988738094,51.091379232025
END:VEVENT
BEGIN:VEVENT
DTSTART;TZID=Europe/London:20250622T103000
DTEND;TZID=Europe/London:20250622T160000
DTSTAMP:20260423T020333
CREATED:20241125T195228Z
LAST-MODIFIED:20250128T203303Z
UID:10008076-1750588200-1750608000@staging.mx5oc.co.uk
SUMMARY:Northants Sunday Run- Picnic in the Park
DESCRIPTION:The Northamptonshire Area welcomes you to our Annual “Picnic in the Park”.\nWhere ?  Emberton Country Park\, MK46 5FJ  Just off the A509 near Olney.\nTimings – Come and go to suit yourself\, but we hope to be in our usual spot 200 metres past the Cafe\, on the right.\nLook for our Banner\, you wont miss us.\nBring your own picnic\, dogs allowed on a lead. Toilets near Cafe.\nNo BBQs\nEntry is £5.50 per car\, pay at entry by Card or Coin. No Change given. Free for Blue Badge holders.\nWatch out for Sleeping Policemen.\nSee you there.
URL:https://staging.mx5oc.co.uk/event/northants-sunday-club-run-2-2-5-2-2-2-2-2-2-6-2/
LOCATION:Emberton Country Park\, Olney Rd\, Emberton\, Olney\, MK46 5FJ
CATEGORIES:Northamptonshire Diary
ATTACH;FMTTYPE=image/jpeg:https://staging.mx5oc.co.uk/wp-content/uploads/2024/11/emberton.jpg
END:VEVENT
BEGIN:VEVENT
DTSTART;TZID=Europe/London:20250622T120000
DTEND;TZID=Europe/London:20250622T170000
DTSTAMP:20260423T020333
CREATED:20250603T114831Z
LAST-MODIFIED:20250618T202815Z
UID:10012717-1750593600-1750611600@staging.mx5oc.co.uk
SUMMARY:Cornwall – Boconnoc Classic Car Show
DESCRIPTION:We will be attending the Boconnoc Classic Car Show on the 22nd of June in aid of Marie Curie. \nYou are welcome to join us if you have already pre-registered and fly the Flag for the MX5 Owners Club. \nOur pre show meet up will be at Morrisons Liskeard PL14 3PR at 12:00 and heading to the show ground at 12:15 \nAll exhibitors need to be on site by 13:00 \nRoger & Liz will take up the lead for you all to follow….
URL:https://staging.mx5oc.co.uk/event/cornwall-boconnoc-classic-car-show/
CATEGORIES:Cornwall Diary
ATTACH;FMTTYPE=image/png:https://staging.mx5oc.co.uk/wp-content/uploads/2025/06/MX5-LOGO.png
END:VEVENT
BEGIN:VEVENT
DTSTART;TZID=Europe/London:20250625T094500
DTEND;TZID=Europe/London:20250625T120000
DTSTAMP:20260423T020333
CREATED:20250519T101209Z
LAST-MODIFIED:20250519T101545Z
UID:10012676-1750844700-1750852800@staging.mx5oc.co.uk
SUMMARY:Milton Keynes & Chilterns – Midweek Breakfast Meet – The Woodyard Cafe’\, Luton Hoo Estate
DESCRIPTION:Alison and her Sister tested the breakfast on 14/05/25 . It passed ? \nBooked for arrival at 9.45/10am for our normal midweek breakfast in June. No specific end time\, people stay as long as they want. \nThe walled garden is open on a Wednesday (£7.50 or free to Histotic House Members) for those who would like a stroll after breakfast. \nPlease let us know if there is 1 or 2 (or more) of you attending as it helps with numbers etc.  Use the mkchiltern@mx5oc.co.uk \nFinal numbers by Sunday 22nd please.
URL:https://staging.mx5oc.co.uk/event/milton-keynes-chilterns-midweek-breakfast-meet-the-woodyard-cafe-luton-hoo-estate/
LOCATION:The Woodyard Cafe and Brasserie\,\, Luton Hoo Estate\, Bedfordshire\, LU1 4LF
CATEGORIES:Milton Keynes & Chilterns Diary
ATTACH;FMTTYPE=image/jpeg:https://staging.mx5oc.co.uk/wp-content/uploads/2025/05/The-Woodyard.jpeg
END:VEVENT
BEGIN:VEVENT
DTSTART;TZID=Europe/London:20250625T183000
DTEND;TZID=Europe/London:20250625T213000
DTSTAMP:20260423T020333
CREATED:20250620T160132Z
LAST-MODIFIED:20250624T092755Z
UID:10012849-1750876200-1750887000@staging.mx5oc.co.uk
SUMMARY:South Wales – Caerphilly monthly meeting CANCELLED
DESCRIPTION:This meeting is cancelled. \n 
URL:https://staging.mx5oc.co.uk/event/south-wales-caerphilly-monthly-meeting/2025-06-25/
CATEGORIES:South Wales Diary
END:VEVENT
BEGIN:VEVENT
DTSTART;TZID=Europe/London:20250625T183000
DTEND;TZID=Europe/London:20250625T213000
DTSTAMP:20260423T020333
CREATED:20250527T183428Z
LAST-MODIFIED:20250527T183926Z
UID:10012701-1750876200-1750887000@staging.mx5oc.co.uk
SUMMARY:North West – Social Meeting at The Crown
DESCRIPTION:General get together and discussion on future organised drives\, events and related topics.
URL:https://staging.mx5oc.co.uk/event/north-west-social-meeting-at-the-crown-2/2025-06-25/
LOCATION:Crown at Worthington\, Platt Lane\, Standish\, WN1 2XF\, United Kingdom
CATEGORIES:North West Diary
END:VEVENT
BEGIN:VEVENT
DTSTART;TZID=Europe/London:20250625T193000
DTEND;TZID=Europe/London:20250625T220000
DTSTAMP:20260423T020333
CREATED:20250515T115644Z
LAST-MODIFIED:20250626T162009Z
UID:10008004-1750879800-1750888800@staging.mx5oc.co.uk
SUMMARY:North West Midlands - Evening Meeting
DESCRIPTION:
URL:https://staging.mx5oc.co.uk/event/north-west-midlands-evening-meeting-2-2/2025-06-25/
LOCATION:United Kingdom
CATEGORIES:North West Midlands Diary
END:VEVENT
BEGIN:VEVENT
DTSTART;TZID=Europe/London:20250626T193000
DTEND;TZID=Europe/London:20250626T230000
DTSTAMP:20260423T020333
CREATED:20241121T135538Z
LAST-MODIFIED:20250530T134110Z
UID:10005813-1750966200-1750978800@staging.mx5oc.co.uk
SUMMARY:North East Midlands – Monthly Meet at The Coopers Arms Weston-on-Trent
DESCRIPTION:Welcome to NEM Monthly Meet at The Coopers Arms. We meet in the large conservatory at about 7-30pm. Some members eat before the meeting. If you would like to reserve a table;; please book directly with The Coopers Arms. \nWe look forward to meeting new and prospective members. Please make yourselves know to us. \nTeam NEM \n  \n 
URL:https://staging.mx5oc.co.uk/event/nem-monthly-meet-the-coopers-arms-weston-on-trent/2025-06-26/
LOCATION:The Coopers Arms\, Weston-on-Trent\, Derby\, Derbyshire\, DE72 2BJ\, United Kingdom
CATEGORIES:North East Midlands Diary
ATTACH;FMTTYPE=image/jpeg:https://staging.mx5oc.co.uk/wp-content/uploads/2024/11/Coopers-Arms.jpg
GEO:52.85158251863;-1.4025076710756
X-APPLE-STRUCTURED-LOCATION;VALUE=URI;X-ADDRESS=The Coopers Arms Weston-on-Trent Derby Derbyshire DE72 2BJ United Kingdom;X-APPLE-RADIUS=500;X-TITLE=Weston-on-Trent:geo:-1.4025076710756,52.85158251863
END:VEVENT
BEGIN:VEVENT
DTSTART;TZID=Europe/London:20250628T100000
DTEND;TZID=Europe/London:20250628T170000
DTSTAMP:20260423T020333
CREATED:20250411T091848Z
LAST-MODIFIED:20250512T140524Z
UID:10012084-1751104800-1751130000@staging.mx5oc.co.uk
SUMMARY:North East Midlands – Lullington Open Gardens Weekend and Car Show – Saturday 28th and Sunday 29th June
DESCRIPTION:Hi Everyone\, \nTracey and Rich have kindly offered to arrange for us to show are cars\, at the Lullington Open Gardens Weekend\, on Saturday 28th and Sunday 29th June. \nFor more information and to BOOK YOUR PLACE please see full details on the club forum LINK below. \nhttps://forum.mx5oc.co.uk/c/area-events/nem-area-events/128 \n  \nTeam NEM
URL:https://staging.mx5oc.co.uk/event/north-east-midlands-lullington-open-gardens-weekend-and-car-show-saturday-28th-and-sunday-29th-june/
CATEGORIES:North East Midlands Diary
END:VEVENT
BEGIN:VEVENT
DTSTART;TZID=Europe/London:20250628T120000
DTEND;TZID=Europe/London:20250628T153000
DTSTAMP:20260423T020333
CREATED:20241230T110017Z
LAST-MODIFIED:20250624T100602Z
UID:10011409-1751112000-1751124600@staging.mx5oc.co.uk
SUMMARY:East Sussex and Downs – Pub meeting  The Thatched Inn Hassocks from 12.00pm
DESCRIPTION:Monthly Pub meeting at the Thatched Inn Hassocks.  Booking required.  Please contact Chris Unsted eastsussex@mx5oc.co.uk\nConfirmed attending\nChris and Heather\nPaul\nJohn and Ann\nBrian and Christine\nSimon and Rhona\nNigel and Louise\nJohn and Rose\nDavid and Kasla\nGraham\nMarc\nHelen\nGail\nMartin and Nicky\nGary\nDavid and Terri\nFred and Judith
URL:https://staging.mx5oc.co.uk/event/east-sussex-and-downs-pub-meeting-the-thatched-inn-hassocks-from-12-00pm/
LOCATION:The Thatched Inn\, Grand Ave\, Hassocks\, BN6 8DH\, United Kingdom
CATEGORIES:East Sussex and Downs Diary
END:VEVENT
BEGIN:VEVENT
DTSTART;VALUE=DATE:20250629
DTEND;VALUE=DATE:20250630
DTSTAMP:20260423T020333
CREATED:20250527T170132Z
LAST-MODIFIED:20250527T192651Z
UID:10012699-1751155200-1751241599@staging.mx5oc.co.uk
SUMMARY:North West – Classic and Performance Motor Show – Hoghton Tower\, Preston
DESCRIPTION:We are pleased to announce the MX-5 Owners Club\, North West Area\, will be displaying a selection of members cars at the Classic and Performance Motor Show\, Hoghton Tower\, Preston\, on Sunday 29th June 2025. \nThe North West will have a stand on the lawns facing the iconic Hoghton Tower which has played host to King James 1st\, Dickens and Shakespeare. This will be our first show at Hoghton Towers although we have exhibited at other shows organised by the Great British Motor Shows in the past\, being at Lytham Hall and Leighton Hall\, each have been very successful. \nWe will be showing 10 cars from Mk 1 (NA) through to RF. The show will have a huge selection of classic and performance cars which may remind you of your youthful years and could be very nostalgic if maybe you once owned a particular model on show. \nYou should be guaranteed a great day out. Admission cost are £12.50 per adult on the day\, or £9.50 in advance online. See the link below for more information. The show opens at 10.00am with a cafe and facilities onsite. \nIf attending\, come and say hello\, we would love to see you.
URL:https://staging.mx5oc.co.uk/event/north-west-classic-and-performance-motor-show-hoghton-tower-preston/
LOCATION:Hoghton Tower\, Blackburn Old Road\, Hoghton\, Lancashire\, PR5 0SH\, United Kingdom
CATEGORIES:North West Diary
END:VEVENT
BEGIN:VEVENT
DTSTART;VALUE=DATE:20250629
DTEND;VALUE=DATE:20250630
DTSTAMP:20260423T020333
CREATED:20250118T173145Z
LAST-MODIFIED:20250514T164302Z
UID:10011688-1751155200-1751241599@staging.mx5oc.co.uk
SUMMARY:South West Midlands – June Monthly Drive – Hosted By John & Penny
DESCRIPTION:June 29th 2025            John & Penny \n  \nCars Trains and a Walking Trail\nDate: Sunday 29th June 2025\nStart: American Diner\, Leominster\, HR6 0DQ\nTime: 09:00 for Breakfast\nNOTE: When Parking you MUST book your car onto the iPad in the Diner Doorway or you WILL get a ticket. (The diner does not own the carpark).\nBriefing: 10:00 PROMPT\nDepart: 10:15 PROMPT\nIntermediate Stop: 11:05 approx Churchstoke Shopping Centre SY15 6AR. 15 minute MAX stop for comfort Break.\nFinish: 12:00 LLanfair Railway\, Cloverlands Model Car Museum and Riverside Walk\, SY21 0SF\n\nDistance: 52 miles\n  \nDrive Options:\n  \nUseful Information:\nThe OK Diner offers Dairy Free and Gluten Free but please forward your requests to 01568 614266.\nAt the destination at Llanfair Station you will find refreshments in the form of sandwiches\, full meals\, drinks and of course Welsh Ice Creams. \nThe Model Car Museum is the largest in the UK\, it is free entrance but they would greatly appreciate and DONATIONS please. It is a Charity. \nThe train Journey travels through beautiful countriside pulled by a small steam loco and the journey to Welshpool takes 45 minutes each way with a 30 minute stop at the Welshpool end before returning. \nRoute & Sat Nav instructions to follow
URL:https://staging.mx5oc.co.uk/event/south-west-midlands-june-monthly-drive-hosted-by-john-penny/
LOCATION:Castle Combe Circuit\, Castle Combe\, Upper Castle Combe\,\, Chippenham\, SN14 7EY\, United Kingdom
CATEGORIES:South West Midlands Diary
END:VEVENT
BEGIN:VEVENT
DTSTART;TZID=Europe/London:20250629T080000
DTEND;TZID=Europe/London:20250629T170000
DTSTAMP:20260423T020333
CREATED:20250612T095617Z
LAST-MODIFIED:20250612T095617Z
UID:10012845-1751184000-1751216400@staging.mx5oc.co.uk
SUMMARY:Isle of Wight - Wight Wheels 2025
DESCRIPTION:Isle of Wight – Wight Wheels 2025
URL:https://staging.mx5oc.co.uk/event/isle-of-wight-wight-wheels-2025/
CATEGORIES:Isle of Wight Diary
END:VEVENT
BEGIN:VEVENT
DTSTART;TZID=Europe/London:20250629T093000
DTEND;TZID=Europe/London:20250629T170000
DTSTAMP:20260423T020333
CREATED:20250528T222345Z
LAST-MODIFIED:20250528T222345Z
UID:10012708-1751189400-1751216400@staging.mx5oc.co.uk
SUMMARY:South Central - Drive from Blackbushe Airport to Greenham Common Tower
DESCRIPTION:We will meet at Blackbushe Airport car park ready for a 10.00am departure. \nIf anyone wants to take advantage of the on site café it opens at 8.00am for breakfast \nWe will drive for about an hour (avoiding A roads as much as possible) and arrive at the Greenham Common Tower \nWe have been granted private parking on the grass area behind the tower. There is a café on site. \nAfter the visit there will be an opportunity to drive down to Podium Place in Newbury\, where many car enthusiasts meet.
URL:https://staging.mx5oc.co.uk/event/south-central-drive-from-blackbushe-airport-to-greenham-common-tower/
LOCATION:Greenham Common Tower\, Burys Bank Road\, Newbury\, Thatcham\, RG19 8BZ
CATEGORIES:South Central Diary
END:VEVENT
BEGIN:VEVENT
DTSTART;TZID=Europe/London:20250629T093000
DTEND;TZID=Europe/London:20250629T170000
DTSTAMP:20260423T020333
CREATED:20250517T150548Z
LAST-MODIFIED:20250517T150548Z
UID:10012675-1751189400-1751216400@staging.mx5oc.co.uk
SUMMARY:Central Scotland - late June Drive - Moffat Classic Car Show
DESCRIPTION:A great drive and a great show! \nUsing Moffat Classic Car Show (£5 entry) as a venue for a stop off\, join us for a spirited drive through D+G and the Borders on Sunday 29th June. \n\nMeet at Asda Straiton car park at 9.30am\nLeave 9.45am and head down the A701\nStop off at Wee Crook Cafe for a bacon roll at 10.30am (chance for folk to meet us here)\nDown to Moffat Showground car park for Noon (was busy last year)\nLeave 3pm and head East to St Mary’s Loch\nCross country into Peebles and the route North back to Edinburgh
URL:https://staging.mx5oc.co.uk/event/central-scotland-late-june-drive-moffat-classic-car-show/
CATEGORIES:Central Scotland Diary
ATTACH;FMTTYPE=image/jpeg:https://staging.mx5oc.co.uk/wp-content/uploads/2025/05/MOFFAT.jpg
END:VEVENT
BEGIN:VEVENT
DTSTART;TZID=Europe/London:20250629T100000
DTEND;TZID=Europe/London:20250629T170000
DTSTAMP:20260423T020333
CREATED:20250326T124204Z
LAST-MODIFIED:20250326T124204Z
UID:10012056-1751191200-1751216400@staging.mx5oc.co.uk
SUMMARY:Kent - Chris West Classic car show Thanet
DESCRIPTION:Entrance £8:00 if you would like a ticket please contact Les & Debbie Beeching :email: kent@mx5oc.co.uk
URL:https://staging.mx5oc.co.uk/event/kent-chris-west-classic-car-show-thanet/
LOCATION:Chris West Thanet Classic Car Show\, Manston Airport\, Manston Rd\, Ramesgate\, Kent\, CT12 5BQ\, United Kingdom
CATEGORIES:Kent diary
END:VEVENT
BEGIN:VEVENT
DTSTART;TZID=Europe/London:20250629T104500
DTEND;TZID=Europe/London:20250629T170000
DTSTAMP:20260423T020333
CREATED:20250607T104107Z
LAST-MODIFIED:20250607T104107Z
UID:10012835-1751193900-1751216400@staging.mx5oc.co.uk
SUMMARY:South Wales - Monthly Sunday Run
DESCRIPTION:Monthly Sunday run 29th June.\nMeet at Tesco car park\, Pontardawe 10:15am for a 10:45am start. Mid run stop at Llandovery with lunch at the Teifi Waterside Hotel\, Poppit Sands.\nLunch is a carvery with vegetarian options. Main course £19.95.\nLunch orders have to be in by Monday 23rd June.\nPlease contact Dave Whiteley at: dnlwhiteley23@gmail.com or mob: 07488345719 if you’re attending the run.
URL:https://staging.mx5oc.co.uk/event/south-wales-monthly-sunday-run/
CATEGORIES:South Wales Diary
END:VEVENT
END:VCALENDAR