BEGIN:VCALENDAR
VERSION:2.0
PRODID:-//MX-5 Owners Club - ECPv6.15.20//NONSGML v1.0//EN
CALSCALE:GREGORIAN
METHOD:PUBLISH
X-WR-CALNAME:MX-5 Owners Club
X-ORIGINAL-URL:https://staging.mx5oc.co.uk
X-WR-CALDESC:Events for MX-5 Owners Club
REFRESH-INTERVAL;VALUE=DURATION:PT1H
X-Robots-Tag:noindex
X-PUBLISHED-TTL:PT1H
BEGIN:VTIMEZONE
TZID:Europe/London
BEGIN:DAYLIGHT
TZOFFSETFROM:+0000
TZOFFSETTO:+0100
TZNAME:BST
DTSTART:20180325T010000
END:DAYLIGHT
BEGIN:STANDARD
TZOFFSETFROM:+0100
TZOFFSETTO:+0000
TZNAME:GMT
DTSTART:20181028T010000
END:STANDARD
BEGIN:DAYLIGHT
TZOFFSETFROM:+0000
TZOFFSETTO:+0100
TZNAME:BST
DTSTART:20190331T010000
END:DAYLIGHT
BEGIN:STANDARD
TZOFFSETFROM:+0100
TZOFFSETTO:+0000
TZNAME:GMT
DTSTART:20191027T010000
END:STANDARD
BEGIN:DAYLIGHT
TZOFFSETFROM:+0000
TZOFFSETTO:+0100
TZNAME:BST
DTSTART:20200329T010000
END:DAYLIGHT
BEGIN:STANDARD
TZOFFSETFROM:+0100
TZOFFSETTO:+0000
TZNAME:GMT
DTSTART:20201025T010000
END:STANDARD
END:VTIMEZONE
BEGIN:VEVENT
DTSTART;TZID=Europe/London:20190904T201500
DTEND;TZID=Europe/London:20190904T213000
DTSTAMP:20260422T023250
CREATED:20241121T135538Z
LAST-MODIFIED:20241121T135538Z
UID:10005908-1567628100-1567632600@staging.mx5oc.co.uk
SUMMARY:P & P Social Meeting
DESCRIPTION:Our Social Meetings are now back at
URL:https://staging.mx5oc.co.uk/event/peaks-and-pennines-social-meeting-2-2/2019-09-04/
LOCATION:United Kingdom
CATEGORIES:Peaks & Pennines Diary
END:VEVENT
BEGIN:VEVENT
DTSTART;TZID=Europe/London:20190911T183000
DTEND;TZID=Europe/London:20190911T184500
DTSTAMP:20260422T023250
CREATED:20241121T135538Z
LAST-MODIFIED:20241121T135538Z
UID:10006562-1568226600-1568227500@staging.mx5oc.co.uk
SUMMARY:WESTERN Club Night at The Cross Hands
DESCRIPTION:
URL:https://staging.mx5oc.co.uk/event/club-night-at-the-cross-hands/2019-09-11/
LOCATION:Yorkshire Ridings
CATEGORIES:Western Diary
END:VEVENT
BEGIN:VEVENT
DTSTART;TZID=Europe/London:20190918T190000
DTEND;TZID=Europe/London:20190918T223000
DTSTAMP:20260422T023250
CREATED:20241121T135538Z
LAST-MODIFIED:20241121T135538Z
UID:10006646-1568833200-1568845800@staging.mx5oc.co.uk
SUMMARY:Western Club Night at The Salt House Clevedon
DESCRIPTION:
URL:https://staging.mx5oc.co.uk/event/club-night-at-the-salt-house-clevedon/2019-09-18/
LOCATION:peaks_pennines_web
CATEGORIES:Western Diary
END:VEVENT
BEGIN:VEVENT
DTSTART;TZID=Europe/London:20191002T201500
DTEND;TZID=Europe/London:20191002T213000
DTSTAMP:20260422T023250
CREATED:20241121T135538Z
LAST-MODIFIED:20241121T135538Z
UID:10005909-1570047300-1570051800@staging.mx5oc.co.uk
SUMMARY:P & P Social Meeting
DESCRIPTION:Our Social Meetings are now back at
URL:https://staging.mx5oc.co.uk/event/peaks-and-pennines-social-meeting-2-2/2019-10-02/
LOCATION:United Kingdom
CATEGORIES:Peaks & Pennines Diary
END:VEVENT
BEGIN:VEVENT
DTSTART;TZID=Europe/London:20191009T183000
DTEND;TZID=Europe/London:20191009T184500
DTSTAMP:20260422T023250
CREATED:20241121T135538Z
LAST-MODIFIED:20241121T135538Z
UID:10006563-1570645800-1570646700@staging.mx5oc.co.uk
SUMMARY:WESTERN Club Night at The Cross Hands
DESCRIPTION:
URL:https://staging.mx5oc.co.uk/event/club-night-at-the-cross-hands/2019-10-09/
LOCATION:Yorkshire Ridings
CATEGORIES:Western Diary
END:VEVENT
BEGIN:VEVENT
DTSTART;TZID=Europe/London:20191016T190000
DTEND;TZID=Europe/London:20191016T223000
DTSTAMP:20260422T023250
CREATED:20241121T135538Z
LAST-MODIFIED:20241121T135538Z
UID:10006647-1571252400-1571265000@staging.mx5oc.co.uk
SUMMARY:Western Club Night at The Salt House Clevedon
DESCRIPTION:
URL:https://staging.mx5oc.co.uk/event/club-night-at-the-salt-house-clevedon/2019-10-16/
LOCATION:peaks_pennines_web
CATEGORIES:Western Diary
END:VEVENT
BEGIN:VEVENT
DTSTART;TZID=Europe/London:20191106T201500
DTEND;TZID=Europe/London:20191106T213000
DTSTAMP:20260422T023250
CREATED:20241121T135538Z
LAST-MODIFIED:20241121T135538Z
UID:10005910-1573071300-1573075800@staging.mx5oc.co.uk
SUMMARY:P & P Social Meeting
DESCRIPTION:Our Social Meetings are now back at
URL:https://staging.mx5oc.co.uk/event/peaks-and-pennines-social-meeting-2-2/2019-11-06/
LOCATION:United Kingdom
CATEGORIES:Peaks & Pennines Diary
END:VEVENT
BEGIN:VEVENT
DTSTART;TZID=Europe/London:20191113T183000
DTEND;TZID=Europe/London:20191113T184500
DTSTAMP:20260422T023250
CREATED:20241121T135538Z
LAST-MODIFIED:20241121T135538Z
UID:10006564-1573669800-1573670700@staging.mx5oc.co.uk
SUMMARY:WESTERN Club Night at The Cross Hands
DESCRIPTION:
URL:https://staging.mx5oc.co.uk/event/club-night-at-the-cross-hands/2019-11-13/
LOCATION:Yorkshire Ridings
CATEGORIES:Western Diary
END:VEVENT
BEGIN:VEVENT
DTSTART;TZID=Europe/London:20191120T190000
DTEND;TZID=Europe/London:20191120T223000
DTSTAMP:20260422T023250
CREATED:20241121T135538Z
LAST-MODIFIED:20241121T135538Z
UID:10006648-1574276400-1574289000@staging.mx5oc.co.uk
SUMMARY:Western Club Night at The Salt House Clevedon
DESCRIPTION:
URL:https://staging.mx5oc.co.uk/event/club-night-at-the-salt-house-clevedon/2019-11-20/
LOCATION:peaks_pennines_web
CATEGORIES:Western Diary
END:VEVENT
END:VCALENDAR