BEGIN:VCALENDAR
VERSION:2.0
PRODID:-//MX-5 Owners Club - ECPv6.15.20//NONSGML v1.0//EN
CALSCALE:GREGORIAN
METHOD:PUBLISH
X-WR-CALNAME:MX-5 Owners Club
X-ORIGINAL-URL:https://staging.mx5oc.co.uk
X-WR-CALDESC:Events for MX-5 Owners Club
REFRESH-INTERVAL;VALUE=DURATION:PT1H
X-Robots-Tag:noindex
X-PUBLISHED-TTL:PT1H
BEGIN:VTIMEZONE
TZID:Europe/London
BEGIN:DAYLIGHT
TZOFFSETFROM:+0000
TZOFFSETTO:+0100
TZNAME:BST
DTSTART:20240331T010000
END:DAYLIGHT
BEGIN:STANDARD
TZOFFSETFROM:+0100
TZOFFSETTO:+0000
TZNAME:GMT
DTSTART:20241027T010000
END:STANDARD
BEGIN:DAYLIGHT
TZOFFSETFROM:+0000
TZOFFSETTO:+0100
TZNAME:BST
DTSTART:20250330T010000
END:DAYLIGHT
BEGIN:STANDARD
TZOFFSETFROM:+0100
TZOFFSETTO:+0000
TZNAME:GMT
DTSTART:20251026T010000
END:STANDARD
BEGIN:DAYLIGHT
TZOFFSETFROM:+0000
TZOFFSETTO:+0100
TZNAME:BST
DTSTART:20260329T010000
END:DAYLIGHT
BEGIN:STANDARD
TZOFFSETFROM:+0100
TZOFFSETTO:+0000
TZNAME:GMT
DTSTART:20261025T010000
END:STANDARD
END:VTIMEZONE
BEGIN:VEVENT
DTSTART;TZID=Europe/London:20250827T193000
DTEND;TZID=Europe/London:20250827T220000
DTSTAMP:20260425T113109
CREATED:20250626T162129Z
LAST-MODIFIED:20250626T165045Z
UID:10008006-1756323000-1756332000@staging.mx5oc.co.uk
SUMMARY:North West Midlands - Evening Meeting
DESCRIPTION:Come along and join us for our regular MX-5 Owners Club night meeting\, held on the 4th Wednesday of each month. \nOur meetings are open to anyone in the area who’s passionate about the MX-5 — whether you’re a long-time member\, a new owner\, or just curious about the Club and what we do. It’s a great chance to meet fellow enthusiasts\, chat cars\, and find out about upcoming events and how to get involved. \n?️ Optional meal from 6:00pm – If you’d like to eat\, please book a table in advance and mention you’re attending the Club Night so you can be seated with us in the reserved area.\n? Meeting starts at 7:30pm \nNo need to be a member — just turn up\, say hello\, and enjoy the evening!
URL:https://staging.mx5oc.co.uk/event/north-west-midlands-evening-meeting-2-2-2/2025-08-27/
LOCATION:The Wheatsheaf\, 470-472 Walsall Road\, Great Wyrley\, West Midlands\, WS6 6HX\, United Kingdom
CATEGORIES:North West Midlands Diary
END:VEVENT
BEGIN:VEVENT
DTSTART;TZID=Europe/London:20250828T193000
DTEND;TZID=Europe/London:20250828T230000
DTSTAMP:20260425T113109
CREATED:20241121T135538Z
LAST-MODIFIED:20250530T134110Z
UID:10005815-1756409400-1756422000@staging.mx5oc.co.uk
SUMMARY:North East Midlands – Monthly Meet at The Coopers Arms Weston-on-Trent
DESCRIPTION:Welcome to NEM Monthly Meet at The Coopers Arms. We meet in the large conservatory at about 7-30pm. Some members eat before the meeting. If you would like to reserve a table;; please book directly with The Coopers Arms. \nWe look forward to meeting new and prospective members. Please make yourselves know to us. \nTeam NEM \n  \n 
URL:https://staging.mx5oc.co.uk/event/nem-monthly-meet-the-coopers-arms-weston-on-trent/2025-08-28/
LOCATION:The Coopers Arms\, Weston-on-Trent\, Derby\, Derbyshire\, DE72 2BJ\, United Kingdom
CATEGORIES:North East Midlands Diary
ATTACH;FMTTYPE=image/jpeg:https://staging.mx5oc.co.uk/wp-content/uploads/2024/11/Coopers-Arms.jpg
GEO:52.85158251863;-1.4025076710756
X-APPLE-STRUCTURED-LOCATION;VALUE=URI;X-ADDRESS=The Coopers Arms Weston-on-Trent Derby Derbyshire DE72 2BJ United Kingdom;X-APPLE-RADIUS=500;X-TITLE=Weston-on-Trent:geo:-1.4025076710756,52.85158251863
END:VEVENT
BEGIN:VEVENT
DTSTART;VALUE=DATE:20250830
DTEND;VALUE=DATE:20250831
DTSTAMP:20260425T113109
CREATED:20250226T191319Z
LAST-MODIFIED:20250226T191319Z
UID:10011854-1756512000-1756598399@staging.mx5oc.co.uk
SUMMARY:Milton Keynes & Chilterns - The 'Wiltshire Weekend'  Runs & Overnight Stay
DESCRIPTION:This will be our 3rd ‘Wiltshire Weekend’. \nThe weekend starts with a run\, with a comfort break half way\, down to a Lunch location (tba) in Wiltshire. \nAfter lunch we embark on a 2nd run with an end destination of Marlborough.  For those staying overnight\, most will use the the Premier Inn in Marlborough. but that is entirely up to individuals. \nWe have an evening BBQ planned for Saturday at our former members (Judith and Alastair) house in Marlborough (5mins from the Premier Inn). \nAfter breakfast we’ll do a 3rd run to a lunch location (tba) before making our individual ways the rest of the way home. \nMore details will be available nearer the time. However\, if you wish to stay over it is best to get your rooms booked early.
URL:https://staging.mx5oc.co.uk/event/milton-keynes-chilterns-the-wiltshire-weekend-runs-overnight-stay/
LOCATION:Hartwell Nurseries\, Ford Rd\, Stone\, Aylesbury\, HP17 8RZ\, United Kingdom
CATEGORIES:Milton Keynes & Chilterns Diary
END:VEVENT
BEGIN:VEVENT
DTSTART;TZID=Europe/London:20250830T120000
DTEND;TZID=Europe/London:20250830T150000
DTSTAMP:20260425T113109
CREATED:20250624T093456Z
LAST-MODIFIED:20250624T093456Z
UID:10012854-1756555200-1756566000@staging.mx5oc.co.uk
SUMMARY:East Sussex and Downs -  Pub meeting The Woolpack  Burgess Hill RH15 8TS  Saturday 30th August 2025
DESCRIPTION:A new venue at The Woolpack\, Howard Avenue\, Burgess Hill RH15 8TS   Booking required and food needs to pre-ordered.\nAttending as at 24th June 2025\nChris and Heather\nKeith and Jo\nBrian and Christine\nMartin and Nicky\nMiles and June\nPat and David\nPaul\nPaul and Gerry\nJulie and Mike\nHelen and Richard\nMarc\nNigel and Louise\nJohn and Rose\nPaul and Barbara\nLiz\nFred and Judith\nGraham
URL:https://staging.mx5oc.co.uk/event/east-sussex-and-downs-pub-meeting-the-woolpack-burgess-hill-rh15-8ts-saturday-30th-august-2025/
LOCATION:The Woolpack\, Howard Avenue\, Burgess Hill\, West Sussex\, RH15 8TS\, United Kingdom
CATEGORIES:East Sussex and Downs Diary
END:VEVENT
BEGIN:VEVENT
DTSTART;TZID=Europe/London:20250831T080000
DTEND;TZID=Europe/London:20250831T170000
DTSTAMP:20260425T113109
CREATED:20250622T181853Z
LAST-MODIFIED:20250622T181853Z
UID:10012850-1756627200-1756659600@staging.mx5oc.co.uk
SUMMARY:Grampian - Buckie Classic Car Show [2025]
DESCRIPTION:MX-5 Owners Club Grampian are delighted to be at the Buckie Classic Car Show in Buckie again this year. Come along and support this excellent event.
URL:https://staging.mx5oc.co.uk/event/grampian-buckie-classic-car-show-2025/
LOCATION:Linzee Gordon Park Buckie\, Buckie\, Aberdeenshire\, United Kingdom
CATEGORIES:Grampian Diary
ATTACH;FMTTYPE=image/jpeg:https://staging.mx5oc.co.uk/wp-content/uploads/2025/06/Buckie-2025.jpg
END:VEVENT
BEGIN:VEVENT
DTSTART;TZID=Europe/London:20250831T103000
DTEND;TZID=Europe/London:20250831T170000
DTSTAMP:20260425T113110
CREATED:20250413T110126Z
LAST-MODIFIED:20250413T113108Z
UID:10012183-1756636200-1756659600@staging.mx5oc.co.uk
SUMMARY:South Wales Area – Monthly Sunday Run
DESCRIPTION:This run is organised by Andy & Sharon Southan. \nDetails to follow.
URL:https://staging.mx5oc.co.uk/event/south-wales-area-monthly-sunday-run-2/
LOCATION:George st Car Park\, Brecon. LD3 7HY\, Select a Country:
CATEGORIES:South Wales Diary
END:VEVENT
END:VCALENDAR