BEGIN:VCALENDAR
VERSION:2.0
PRODID:-//MX-5 Owners Club - ECPv6.15.20//NONSGML v1.0//EN
CALSCALE:GREGORIAN
METHOD:PUBLISH
X-WR-CALNAME:MX-5 Owners Club
X-ORIGINAL-URL:https://staging.mx5oc.co.uk
X-WR-CALDESC:Events for MX-5 Owners Club
REFRESH-INTERVAL;VALUE=DURATION:PT1H
X-Robots-Tag:noindex
X-PUBLISHED-TTL:PT1H
BEGIN:VTIMEZONE
TZID:Europe/London
BEGIN:DAYLIGHT
TZOFFSETFROM:+0000
TZOFFSETTO:+0100
TZNAME:BST
DTSTART:20240331T010000
END:DAYLIGHT
BEGIN:STANDARD
TZOFFSETFROM:+0100
TZOFFSETTO:+0000
TZNAME:GMT
DTSTART:20241027T010000
END:STANDARD
BEGIN:DAYLIGHT
TZOFFSETFROM:+0000
TZOFFSETTO:+0100
TZNAME:BST
DTSTART:20250330T010000
END:DAYLIGHT
BEGIN:STANDARD
TZOFFSETFROM:+0100
TZOFFSETTO:+0000
TZNAME:GMT
DTSTART:20251026T010000
END:STANDARD
BEGIN:DAYLIGHT
TZOFFSETFROM:+0000
TZOFFSETTO:+0100
TZNAME:BST
DTSTART:20260329T010000
END:DAYLIGHT
BEGIN:STANDARD
TZOFFSETFROM:+0100
TZOFFSETTO:+0000
TZNAME:GMT
DTSTART:20261025T010000
END:STANDARD
END:VTIMEZONE
BEGIN:VEVENT
DTSTART;VALUE=DATE:20250926
DTEND;VALUE=DATE:20250927
DTSTAMP:20260421T114719
CREATED:20250728T161309Z
LAST-MODIFIED:20250728T162052Z
UID:10013343-1758844800-1758931199@staging.mx5oc.co.uk
SUMMARY:Grampian – Not too far South
DESCRIPTION:A venture to the South West of Scotland and the North East of England before returning back over the wall to safety..
URL:https://staging.mx5oc.co.uk/event/grampian-not-too-far-south/2025-09-26/
CATEGORIES:Grampian Diary
ATTACH;FMTTYPE=image/jpeg:https://staging.mx5oc.co.uk/wp-content/uploads/2025/07/Aberdeenshire_Historic-1.jpg
END:VEVENT
BEGIN:VEVENT
DTSTART;TZID=Europe/London:20250926T080000
DTEND;TZID=Europe/London:20250926T230000
DTSTAMP:20260421T114720
CREATED:20250130T161747Z
LAST-MODIFIED:20250803T151458Z
UID:10011797-1758873600-1758927600@staging.mx5oc.co.uk
SUMMARY:Wessex – Weekend away\, based in Hereford
DESCRIPTION:Final planning and drive routes in progress now. \nFriday 26th September to Monday 29th September. \nThis follows on from Harvey and Chris’ successful Devon trip last year. \nAt this stage expressions of interest to me please. \nwessex@mx5oc.co.uk
URL:https://staging.mx5oc.co.uk/event/wessex-weekend-away-based-in-ross-on-wye/2025-09-26/
CATEGORIES:Wessex Diary
ATTACH;FMTTYPE=image/jpeg:https://staging.mx5oc.co.uk/wp-content/uploads/2025/01/Lands-end-1.jpg
END:VEVENT
BEGIN:VEVENT
DTSTART;VALUE=DATE:20250927
DTEND;VALUE=DATE:20250928
DTSTAMP:20260421T114720
CREATED:20250721T175716Z
LAST-MODIFIED:20250823T192724Z
UID:10012934-1758931200-1759017599@staging.mx5oc.co.uk
SUMMARY:Highland & Moray – Ardnamurchan Weekend
DESCRIPTION:Jenni Hodgson is kindly organising another weekend away to Ardnamurchan. \nPlease note that all the rooms we provisionally booked for this run have now been taken.  More rooms may be available but please check directly with the hotel on 01967 402029 \nSaturday 27th September \nFirst meeting point will be the public car park in Drumnadrochit postcode IV63 6TX\, and we will aim to leave here at 10am. We will then head south west to Spean Bridge. \nSecond meeting point will be at the Commando Memorial at Spean Bridge postcode PH34 4EG. \nFrom there we will head out to Arising. Then a slight double back via Glenuig to Castle Tioram before ending up in Strontian. \nDinner and overnight stay in the Strontian Hotel. \nSunday 28th September \nWe will head out to the Ardnamurchan lighthouse\, and Sanna Bay. Then we will head back taking in a few stops on the way.
URL:https://staging.mx5oc.co.uk/event/highland-moray-ardnamurchan-weekend/
LOCATION:Strontian Hotel\, Dalmhor\, Strontian\, Acharacle\, PH36 4HZ\, Select a Country:
CATEGORIES:Highland & Moray Diary
ATTACH;FMTTYPE=image/jpeg:https://staging.mx5oc.co.uk/wp-content/uploads/2025/07/IMG_0299-scaled.jpeg
END:VEVENT
BEGIN:VEVENT
DTSTART;TZID=Europe/London:20250927T080000
DTEND;TZID=Europe/London:20250927T230000
DTSTAMP:20260421T114720
CREATED:20250130T161747Z
LAST-MODIFIED:20250803T151458Z
UID:10011798-1758960000-1759014000@staging.mx5oc.co.uk
SUMMARY:Wessex – Weekend away\, based in Hereford
DESCRIPTION:Final planning and drive routes in progress now. \nFriday 26th September to Monday 29th September. \nThis follows on from Harvey and Chris’ successful Devon trip last year. \nAt this stage expressions of interest to me please. \nwessex@mx5oc.co.uk
URL:https://staging.mx5oc.co.uk/event/wessex-weekend-away-based-in-ross-on-wye/2025-09-27/
CATEGORIES:Wessex Diary
ATTACH;FMTTYPE=image/jpeg:https://staging.mx5oc.co.uk/wp-content/uploads/2025/01/Lands-end-1.jpg
END:VEVENT
BEGIN:VEVENT
DTSTART;TZID=Europe/London:20250927T083000
DTEND;TZID=Europe/London:20250927T170000
DTSTAMP:20260421T114720
CREATED:20250901T192158Z
LAST-MODIFIED:20250901T192158Z
UID:10013539-1758961800-1758992400@staging.mx5oc.co.uk
SUMMARY:CS - September Drive - Rannoch Run
DESCRIPTION:We’re coming to the end of our organised runs for 2025\, so why not join us on an epic journey to Rannoch Railway Station in a twist on a Top Gear Challenge. \nStarting points proposed for both East and West locations;\n– East = Dobbies in Dunfermline @ 08.30\n– West = Scottish Wool Centre in Aberfoyle @ 08.30\n– Arrive at Rannoch Station Tearoom around 12.15pm\nAll welcome! \n 
URL:https://staging.mx5oc.co.uk/event/cs-september-drive-rannoch-run/
END:VEVENT
BEGIN:VEVENT
DTSTART;TZID=Europe/London:20250927T120000
DTEND;TZID=Europe/London:20250927T153000
DTSTAMP:20260421T114720
CREATED:20241230T112059Z
LAST-MODIFIED:20250624T093758Z
UID:10011414-1758974400-1758987000@staging.mx5oc.co.uk
SUMMARY:East Sussex and Downs – Pub meeting  The Greenman Ringmer BN8 5NA  Saturday 27th September at 12.00pm
DESCRIPTION:Monthly Pub meeting at The Greenman Ringmer East Sussex BN8 5NA.   Booking required as numbers need to be confirmed but no pre-ordering of food required.   Please contact Chris Unsted eastsussex@mx5oc.co.uk\nConfirmed attending as at 24th June 2025\nChris and Heather\nPaul\nBrian and Christine\nHelen\nMartin and Nicky\nMiles and June\nDavid and Pat\nNigel and Louise\nJohn and Rose\nLiz
URL:https://staging.mx5oc.co.uk/event/east-sussex-and-downs-pub-meeting-the-greenman-ringmer-bn8-5na-saturday-27th-september-at-12-00pm/
LOCATION:The Greenman Ringmer\, Lewes Rd\, Ringmer\, East Sussex\, BN8 5NA
CATEGORIES:East Sussex and Downs Diary
END:VEVENT
BEGIN:VEVENT
DTSTART;VALUE=DATE:20250928
DTEND;VALUE=DATE:20250929
DTSTAMP:20260421T114720
CREATED:20250821T200513Z
LAST-MODIFIED:20250831T111251Z
UID:10013525-1759017600-1759103999@staging.mx5oc.co.uk
SUMMARY:North West – Back to The 50’s
DESCRIPTION:This event is organised by Rod & Mandy and takes us to “The 1950’s Museum” \nMeeting at Chester services on the M56\, 09:45am for a 10:15 start\, we drive through the Cheshire lanes into Wales and onto The 1950’s Museum which is on the outskirts of Denbigh\, LL16 4SU. A reduced club entry fee of £5.50 per head has been negotiated\, tea or coffee £1. Stopping for 1.5 hours. \nLeaving here we drive for approximately 1.25 hours\, which includes sections of Evo Triangle\, to the Giler Arms in Rhydlydan\, LL24 0LL for Sunday lunch. \nWe then continue through scenic countryside to the Plough Inn\, St Asaph LL17 0LU\, close to the A55 for onward journeys home. \nTulip Maps are attached below. \nIf you wish to attend this event please add “going” on the event section of our Facebook page\, MX-5 Owners Club North West or email northwest@mx5oc.co.uk \nBack To the 50s Run sheet 1 \nBack To the 50s Run Sheet 2 \nBack To the 50s Run sheet 3 \n  \n  \n 
URL:https://staging.mx5oc.co.uk/event/north-west-back-to-the-50s/
LOCATION:1950’s Museum Denbigh\, Denbigh\, LL16 4SU\, United Kingdom
CATEGORIES:North West Diary
END:VEVENT
BEGIN:VEVENT
DTSTART;VALUE=DATE:20250928
DTEND;VALUE=DATE:20250929
DTSTAMP:20260421T114720
CREATED:20250118T173640Z
LAST-MODIFIED:20250804T122641Z
UID:10011691-1759017600-1759103999@staging.mx5oc.co.uk
SUMMARY:South West Midlands – September Monthly Drive – Hosted By Ron & Theresa Edwards
DESCRIPTION:September Drive. A Meander from Boats to Buses\n\n\nPlans are in-hand for the September Drive on Sunday\, 28th September 2025. We’ll be starting at Upton-upon-Severn Marina where teas/coffees and bacon rolls etc. will be available and making our way to the Wythall Transport Museum https://www.wythall.org.uk where we’ll have the chance to display our cars and enjoy the exhibition and maybe have a ride on a bus.\n\n\nEntry to the Museum for Car and Driver is free; passenger admission price is £5. The Museum has a cafeteria that serves basic hot food\, but for those who would prefer a Sunday Roast\, a local pub\, the Coach & Horses\nhttps://www.coachandhorsesinn.co.uk/\nwill be happy to accommodate us at 3.00pm. Please note: the pub needs our menu choices in advance\, and a £5 deposit per person is required. See Sunday Menu:\n\n\n\n\n\n\n\n\nI shall be collecting deposits and menu choices at the August and September meetings\, as well as at the Pershore Plum Festival. If you can’t make these\, just send me a private message with your menu choices. If you prefer to pay your deposit by bank transfer\, let me know and I’ll send you my bank details.\n\n\nFull details will be on the SWMMX5OC site:https://swm.mx5oc.co.uk/drives.html\nLooking forward to a day out on the Buses!
URL:https://staging.mx5oc.co.uk/event/south-west-midlands-september-monthly-drive-hosted-by-ron-edwards/
LOCATION:Castle Combe Circuit\, Castle Combe\, Upper Castle Combe\,\, Chippenham\, SN14 7EY\, United Kingdom
CATEGORIES:South West Midlands Diary
ATTACH;FMTTYPE=image/jpeg:https://staging.mx5oc.co.uk/wp-content/uploads/2025/01/Buses.jpg
END:VEVENT
BEGIN:VEVENT
DTSTART;TZID=Europe/London:20250928T080000
DTEND;TZID=Europe/London:20250928T230000
DTSTAMP:20260421T114720
CREATED:20250130T161747Z
LAST-MODIFIED:20250803T151458Z
UID:10011799-1759046400-1759100400@staging.mx5oc.co.uk
SUMMARY:Wessex – Weekend away\, based in Hereford
DESCRIPTION:Final planning and drive routes in progress now. \nFriday 26th September to Monday 29th September. \nThis follows on from Harvey and Chris’ successful Devon trip last year. \nAt this stage expressions of interest to me please. \nwessex@mx5oc.co.uk
URL:https://staging.mx5oc.co.uk/event/wessex-weekend-away-based-in-ross-on-wye/2025-09-28/
CATEGORIES:Wessex Diary
ATTACH;FMTTYPE=image/jpeg:https://staging.mx5oc.co.uk/wp-content/uploads/2025/01/Lands-end-1.jpg
END:VEVENT
BEGIN:VEVENT
DTSTART;TZID=Europe/London:20250928T083000
DTEND;TZID=Europe/London:20250928T113000
DTSTAMP:20260421T114720
CREATED:20251124T202155Z
LAST-MODIFIED:20251124T202155Z
UID:10013911-1759048200-1759059000@staging.mx5oc.co.uk
SUMMARY:Cheshire & North Wales - Monthly Breakfast Meet
DESCRIPTION:Come and join us for a fantastic fry up & chat at Chocks Away Diner. It’s an excellent place to discuss all things MX-5 and you might even see a few planes!
URL:https://staging.mx5oc.co.uk/event/cheshire-north-wales-monthly-breakfast-meet/2025-09-28/
LOCATION:Chocks Away Diner\, Hawarden Airport\, Flint Rd\, Saltney Ferry\, Chester\, CH4 0GZ
CATEGORIES:Cheshire & North Wales Diary
END:VEVENT
BEGIN:VEVENT
DTSTART;TZID=Europe/London:20250928T093000
DTEND;TZID=Europe/London:20250928T113000
DTSTAMP:20260421T114720
CREATED:20250305T232407Z
LAST-MODIFIED:20250605T104852Z
UID:10011867-1759051800-1759059000@staging.mx5oc.co.uk
SUMMARY:South Central – Ramster Gardens Café Breakfast Meet
DESCRIPTION:4th Sunday of each month is our morning  meet at Ramster Gardens\, Chiddingfold (GU8 4SN). \nArrive 9.30am onwards for coffee\, bacon butties and general chit chat. \nThere is no charge to attend but please use the café for refreshments (no picnics please). \nThere is a charge to enter the beautiful gardens and well worth a walk round after our meet.
URL:https://staging.mx5oc.co.uk/event/south-central-ramster-gardens-cafe-breakfast-meet/2025-09-28/
LOCATION:Ramster Gardens Café\, Petworth Rd\, Chiddingfold\, Surrey\, GU8 4SN\, United Kingdom
CATEGORIES:South Central Diary
GEO:51.091379232025;-0.64375988738094
X-APPLE-STRUCTURED-LOCATION;VALUE=URI;X-ADDRESS=Ramster Gardens Café Petworth Rd Chiddingfold Surrey GU8 4SN United Kingdom;X-APPLE-RADIUS=500;X-TITLE=Petworth Rd:geo:-0.64375988738094,51.091379232025
END:VEVENT
BEGIN:VEVENT
DTSTART;TZID=Europe/London:20250928T100000
DTEND;TZID=Europe/London:20250928T130000
DTSTAMP:20260421T114720
CREATED:20250810T192552Z
LAST-MODIFIED:20250812T074529Z
UID:10013509-1759053600-1759064400@staging.mx5oc.co.uk
SUMMARY:Milton Keynes & Chilterns – Hellfire Caves Run
DESCRIPTION:This run is approx. 49 miles (1hr 45mins)\, meet at 10.00 to leave at 10.30 from our normal starting point of Popular Garden Centre to The Hellfire Caves\, West Wycombe HP14 3AH. \nParking would be down the road (5 minute slight uphill walk) at West Wycombe Garden Centre Car Park\, Chorley Road as there is very limited parking at the caves. I think the cost is £4.50 \nThe caves take around 1 hour to explore and cost £9.50 (£8.00 for concession) each\, there is also café on site. Tickets for the caves will need to be booked on line before the run and can be booked in 1 hour slots and takes around 1 hour to explore the caves\, no charge to just use just the café. \nPLEASE CONFIRM ATTENDANCE by either putting ‘Going’ on Facebook Group or using this e-mail mkchiltern@mx5o5.co.uk \n 
URL:https://staging.mx5oc.co.uk/event/milton-keynes-chilterns-hellfire-caves-run/
LOCATION:Poplars Garden Centre\, Poplars Garden Centre\, Harlington Rd\, Toddington\, Dunstable\, LU5 6HE\, United Kingdom
CATEGORIES:Milton Keynes & Chilterns Diary
END:VEVENT
BEGIN:VEVENT
DTSTART;TZID=Europe/London:20250928T100000
DTEND;TZID=Europe/London:20250928T140000
DTSTAMP:20260421T114720
CREATED:20250909T192241Z
LAST-MODIFIED:20250909T192241Z
UID:10013612-1759053600-1759068000@staging.mx5oc.co.uk
SUMMARY:Lincolnshire - Ray and Andreas visit and drive
DESCRIPTION:28 Sep 25 Drive Outline \nPlease contact Ray by the 14th September to book your spot details on the PDF
URL:https://staging.mx5oc.co.uk/event/lincolnshire-ray-and-andreas-visit-and-drive/
LOCATION:Raf Cranwell\, Cranwell Village\, Sleaford\, NG34 8HB\, United Kingdom
CATEGORIES:Lincolnshire Diary
ATTACH;FMTTYPE=image/jpeg:https://staging.mx5oc.co.uk/wp-content/uploads/2025/09/IMG_2080-scaled.jpeg
END:VEVENT
BEGIN:VEVENT
DTSTART;TZID=Europe/London:20250928T103000
DTEND;TZID=Europe/London:20250928T170000
DTSTAMP:20260421T114720
CREATED:20250413T112342Z
LAST-MODIFIED:20250906T135644Z
UID:10012185-1759055400-1759078800@staging.mx5oc.co.uk
SUMMARY:South Wales Area – Monthly Sunday Run
DESCRIPTION:This run will be organised by Lyn & Oksana. \nMeet at Trago Mills car park\, Swansea Rd\, Merthyr\, CF48 1HT. 10:00 am for a 10:30 am start. \nCoffee stop in Llandovery for 1 hour – choice of cafes. \nLunch at The White House\, Sennybridge\, Ld3 8RP. \nMenu for lunch; beef\, chicken\, pork\, hake fillet. £17\, or small portion for £14. Desserts £6.50. £5 deposit to be paid to Lyn when booking. \nTo book your place on the run contact Lyn on southwales@mx5oc.co.uk
URL:https://staging.mx5oc.co.uk/event/south-wales-area-monthly-sunday-run-3/
LOCATION:Trago Mills\, Merthyr\, Swansea Road\, Merthyr\, CF48 1HT\, United Kingdom
CATEGORIES:South Wales Diary
END:VEVENT
BEGIN:VEVENT
DTSTART;TZID=Europe/London:20250929T080000
DTEND;TZID=Europe/London:20250929T170000
DTSTAMP:20260421T114720
CREATED:20250130T161747Z
LAST-MODIFIED:20250803T151458Z
UID:10011800-1759132800-1759165200@staging.mx5oc.co.uk
SUMMARY:Wessex – Weekend away\, based in Hereford
DESCRIPTION:Final planning and drive routes in progress now. \nFriday 26th September to Monday 29th September. \nThis follows on from Harvey and Chris’ successful Devon trip last year. \nAt this stage expressions of interest to me please. \nwessex@mx5oc.co.uk
URL:https://staging.mx5oc.co.uk/event/wessex-weekend-away-based-in-ross-on-wye/2025-09-29/
CATEGORIES:Wessex Diary
ATTACH;FMTTYPE=image/jpeg:https://staging.mx5oc.co.uk/wp-content/uploads/2025/01/Lands-end-1.jpg
END:VEVENT
END:VCALENDAR