BEGIN:VCALENDAR
VERSION:2.0
PRODID:-//MX-5 Owners Club - ECPv6.15.20//NONSGML v1.0//EN
CALSCALE:GREGORIAN
METHOD:PUBLISH
X-WR-CALNAME:MX-5 Owners Club
X-ORIGINAL-URL:https://staging.mx5oc.co.uk
X-WR-CALDESC:Events for MX-5 Owners Club
REFRESH-INTERVAL;VALUE=DURATION:PT1H
X-Robots-Tag:noindex
X-PUBLISHED-TTL:PT1H
BEGIN:VTIMEZONE
TZID:Europe/London
BEGIN:DAYLIGHT
TZOFFSETFROM:+0000
TZOFFSETTO:+0100
TZNAME:BST
DTSTART:20240331T010000
END:DAYLIGHT
BEGIN:STANDARD
TZOFFSETFROM:+0100
TZOFFSETTO:+0000
TZNAME:GMT
DTSTART:20241027T010000
END:STANDARD
BEGIN:DAYLIGHT
TZOFFSETFROM:+0000
TZOFFSETTO:+0100
TZNAME:BST
DTSTART:20250330T010000
END:DAYLIGHT
BEGIN:STANDARD
TZOFFSETFROM:+0100
TZOFFSETTO:+0000
TZNAME:GMT
DTSTART:20251026T010000
END:STANDARD
BEGIN:DAYLIGHT
TZOFFSETFROM:+0000
TZOFFSETTO:+0100
TZNAME:BST
DTSTART:20260329T010000
END:DAYLIGHT
BEGIN:STANDARD
TZOFFSETFROM:+0100
TZOFFSETTO:+0000
TZNAME:GMT
DTSTART:20261025T010000
END:STANDARD
END:VTIMEZONE
BEGIN:VEVENT
DTSTART;TZID=Europe/London:20250928T100000
DTEND;TZID=Europe/London:20250928T140000
DTSTAMP:20260421T131827
CREATED:20250909T192241Z
LAST-MODIFIED:20250909T192241Z
UID:10013612-1759053600-1759068000@staging.mx5oc.co.uk
SUMMARY:Lincolnshire - Ray and Andreas visit and drive
DESCRIPTION:28 Sep 25 Drive Outline \nPlease contact Ray by the 14th September to book your spot details on the PDF
URL:https://staging.mx5oc.co.uk/event/lincolnshire-ray-and-andreas-visit-and-drive/
LOCATION:Raf Cranwell\, Cranwell Village\, Sleaford\, NG34 8HB\, United Kingdom
CATEGORIES:Lincolnshire Diary
ATTACH;FMTTYPE=image/jpeg:https://staging.mx5oc.co.uk/wp-content/uploads/2025/09/IMG_2080-scaled.jpeg
END:VEVENT
BEGIN:VEVENT
DTSTART;TZID=Europe/London:20250928T103000
DTEND;TZID=Europe/London:20250928T170000
DTSTAMP:20260421T131827
CREATED:20250413T112342Z
LAST-MODIFIED:20250906T135644Z
UID:10012185-1759055400-1759078800@staging.mx5oc.co.uk
SUMMARY:South Wales Area – Monthly Sunday Run
DESCRIPTION:This run will be organised by Lyn & Oksana. \nMeet at Trago Mills car park\, Swansea Rd\, Merthyr\, CF48 1HT. 10:00 am for a 10:30 am start. \nCoffee stop in Llandovery for 1 hour – choice of cafes. \nLunch at The White House\, Sennybridge\, Ld3 8RP. \nMenu for lunch; beef\, chicken\, pork\, hake fillet. £17\, or small portion for £14. Desserts £6.50. £5 deposit to be paid to Lyn when booking. \nTo book your place on the run contact Lyn on southwales@mx5oc.co.uk
URL:https://staging.mx5oc.co.uk/event/south-wales-area-monthly-sunday-run-3/
LOCATION:Trago Mills\, Merthyr\, Swansea Road\, Merthyr\, CF48 1HT\, United Kingdom
CATEGORIES:South Wales Diary
END:VEVENT
BEGIN:VEVENT
DTSTART;TZID=Europe/London:20250929T080000
DTEND;TZID=Europe/London:20250929T170000
DTSTAMP:20260421T131827
CREATED:20250130T161747Z
LAST-MODIFIED:20250803T151458Z
UID:10011800-1759132800-1759165200@staging.mx5oc.co.uk
SUMMARY:Wessex – Weekend away\, based in Hereford
DESCRIPTION:Final planning and drive routes in progress now. \nFriday 26th September to Monday 29th September. \nThis follows on from Harvey and Chris’ successful Devon trip last year. \nAt this stage expressions of interest to me please. \nwessex@mx5oc.co.uk
URL:https://staging.mx5oc.co.uk/event/wessex-weekend-away-based-in-ross-on-wye/2025-09-29/
CATEGORIES:Wessex Diary
ATTACH;FMTTYPE=image/jpeg:https://staging.mx5oc.co.uk/wp-content/uploads/2025/01/Lands-end-1.jpg
END:VEVENT
END:VCALENDAR