BEGIN:VCALENDAR
VERSION:2.0
PRODID:-//MX-5 Owners Club - ECPv6.15.20//NONSGML v1.0//EN
CALSCALE:GREGORIAN
METHOD:PUBLISH
X-WR-CALNAME:MX-5 Owners Club
X-ORIGINAL-URL:https://staging.mx5oc.co.uk
X-WR-CALDESC:Events for MX-5 Owners Club
REFRESH-INTERVAL;VALUE=DURATION:PT1H
X-Robots-Tag:noindex
X-PUBLISHED-TTL:PT1H
BEGIN:VTIMEZONE
TZID:Europe/London
BEGIN:DAYLIGHT
TZOFFSETFROM:+0000
TZOFFSETTO:+0100
TZNAME:BST
DTSTART:20180325T010000
END:DAYLIGHT
BEGIN:STANDARD
TZOFFSETFROM:+0100
TZOFFSETTO:+0000
TZNAME:GMT
DTSTART:20181028T010000
END:STANDARD
BEGIN:DAYLIGHT
TZOFFSETFROM:+0000
TZOFFSETTO:+0100
TZNAME:BST
DTSTART:20190331T010000
END:DAYLIGHT
BEGIN:STANDARD
TZOFFSETFROM:+0100
TZOFFSETTO:+0000
TZNAME:GMT
DTSTART:20191027T010000
END:STANDARD
BEGIN:DAYLIGHT
TZOFFSETFROM:+0000
TZOFFSETTO:+0100
TZNAME:BST
DTSTART:20200329T010000
END:DAYLIGHT
BEGIN:STANDARD
TZOFFSETFROM:+0100
TZOFFSETTO:+0000
TZNAME:GMT
DTSTART:20201025T010000
END:STANDARD
END:VTIMEZONE
BEGIN:VEVENT
DTSTART;TZID=Europe/London:20191204T201500
DTEND;TZID=Europe/London:20191204T213000
DTSTAMP:20260421T064332
CREATED:20241121T135538Z
LAST-MODIFIED:20241121T135538Z
UID:10005911-1575490500-1575495000@staging.mx5oc.co.uk
SUMMARY:P & P Social Meeting
DESCRIPTION:Our Social Meetings are now back at
URL:https://staging.mx5oc.co.uk/event/peaks-and-pennines-social-meeting-2-2/2019-12-04/
LOCATION:United Kingdom
CATEGORIES:Peaks & Pennines Diary
END:VEVENT
BEGIN:VEVENT
DTSTART;TZID=Europe/London:20191211T183000
DTEND;TZID=Europe/London:20191211T184500
DTSTAMP:20260421T064332
CREATED:20241121T135538Z
LAST-MODIFIED:20241121T135538Z
UID:10006565-1576089000-1576089900@staging.mx5oc.co.uk
SUMMARY:WESTERN Club Night at The Cross Hands
DESCRIPTION:
URL:https://staging.mx5oc.co.uk/event/club-night-at-the-cross-hands/2019-12-11/
LOCATION:Yorkshire Ridings
CATEGORIES:Western Diary
END:VEVENT
BEGIN:VEVENT
DTSTART;TZID=Europe/London:20191218T190000
DTEND;TZID=Europe/London:20191218T223000
DTSTAMP:20260421T064332
CREATED:20241121T135538Z
LAST-MODIFIED:20241121T135538Z
UID:10006649-1576695600-1576708200@staging.mx5oc.co.uk
SUMMARY:Western Club Night at The Salt House Clevedon
DESCRIPTION:
URL:https://staging.mx5oc.co.uk/event/club-night-at-the-salt-house-clevedon/2019-12-18/
LOCATION:peaks_pennines_web
CATEGORIES:Western Diary
END:VEVENT
END:VCALENDAR