BEGIN:VCALENDAR
VERSION:2.0
PRODID:-//MX-5 Owners Club - ECPv6.15.20//NONSGML v1.0//EN
CALSCALE:GREGORIAN
METHOD:PUBLISH
X-WR-CALNAME:MX-5 Owners Club
X-ORIGINAL-URL:https://staging.mx5oc.co.uk
X-WR-CALDESC:Events for MX-5 Owners Club
REFRESH-INTERVAL;VALUE=DURATION:PT1H
X-Robots-Tag:noindex
X-PUBLISHED-TTL:PT1H
BEGIN:VTIMEZONE
TZID:Europe/London
BEGIN:DAYLIGHT
TZOFFSETFROM:+0000
TZOFFSETTO:+0100
TZNAME:BST
DTSTART:20200329T010000
END:DAYLIGHT
BEGIN:STANDARD
TZOFFSETFROM:+0100
TZOFFSETTO:+0000
TZNAME:GMT
DTSTART:20201025T010000
END:STANDARD
BEGIN:DAYLIGHT
TZOFFSETFROM:+0000
TZOFFSETTO:+0100
TZNAME:BST
DTSTART:20210328T010000
END:DAYLIGHT
BEGIN:STANDARD
TZOFFSETFROM:+0100
TZOFFSETTO:+0000
TZNAME:GMT
DTSTART:20211031T010000
END:STANDARD
BEGIN:DAYLIGHT
TZOFFSETFROM:+0000
TZOFFSETTO:+0100
TZNAME:BST
DTSTART:20220327T010000
END:DAYLIGHT
BEGIN:STANDARD
TZOFFSETFROM:+0100
TZOFFSETTO:+0000
TZNAME:GMT
DTSTART:20221030T010000
END:STANDARD
END:VTIMEZONE
BEGIN:VEVENT
DTSTART;TZID=Europe/London:20210707T201500
DTEND;TZID=Europe/London:20210707T213000
DTSTAMP:20260419T225330
CREATED:20241121T135538Z
LAST-MODIFIED:20241121T135538Z
UID:10005930-1625688900-1625693400@staging.mx5oc.co.uk
SUMMARY:P & P Social Meeting
DESCRIPTION:Our Social Meetings are now back at
URL:https://staging.mx5oc.co.uk/event/peaks-and-pennines-social-meeting-2-2/2021-07-07/
LOCATION:United Kingdom
CATEGORIES:Peaks & Pennines Diary
END:VEVENT
BEGIN:VEVENT
DTSTART;TZID=Europe/London:20210714T183000
DTEND;TZID=Europe/London:20210714T184500
DTSTAMP:20260419T225330
CREATED:20241121T135538Z
LAST-MODIFIED:20241121T135538Z
UID:10006584-1626287400-1626288300@staging.mx5oc.co.uk
SUMMARY:WESTERN Club Night at The Cross Hands
DESCRIPTION:
URL:https://staging.mx5oc.co.uk/event/club-night-at-the-cross-hands/2021-07-14/
LOCATION:Yorkshire Ridings
CATEGORIES:Western Diary
END:VEVENT
BEGIN:VEVENT
DTSTART;TZID=Europe/London:20210721T190000
DTEND;TZID=Europe/London:20210721T223000
DTSTAMP:20260419T225330
CREATED:20241121T135538Z
LAST-MODIFIED:20241121T135538Z
UID:10006668-1626894000-1626906600@staging.mx5oc.co.uk
SUMMARY:Western Club Night at The Salt House Clevedon
DESCRIPTION:
URL:https://staging.mx5oc.co.uk/event/club-night-at-the-salt-house-clevedon/2021-07-21/
LOCATION:peaks_pennines_web
CATEGORIES:Western Diary
END:VEVENT
END:VCALENDAR