BEGIN:VCALENDAR
VERSION:2.0
PRODID:-//MX-5 Owners Club - ECPv6.15.20//NONSGML v1.0//EN
CALSCALE:GREGORIAN
METHOD:PUBLISH
X-ORIGINAL-URL:https://staging.mx5oc.co.uk
X-WR-CALDESC:Events for MX-5 Owners Club
REFRESH-INTERVAL;VALUE=DURATION:PT1H
X-Robots-Tag:noindex
X-PUBLISHED-TTL:PT1H
BEGIN:VTIMEZONE
TZID:Europe/London
BEGIN:DAYLIGHT
TZOFFSETFROM:+0000
TZOFFSETTO:+0100
TZNAME:BST
DTSTART:20200329T010000
END:DAYLIGHT
BEGIN:STANDARD
TZOFFSETFROM:+0100
TZOFFSETTO:+0000
TZNAME:GMT
DTSTART:20201025T010000
END:STANDARD
BEGIN:DAYLIGHT
TZOFFSETFROM:+0000
TZOFFSETTO:+0100
TZNAME:BST
DTSTART:20210328T010000
END:DAYLIGHT
BEGIN:STANDARD
TZOFFSETFROM:+0100
TZOFFSETTO:+0000
TZNAME:GMT
DTSTART:20211031T010000
END:STANDARD
BEGIN:DAYLIGHT
TZOFFSETFROM:+0000
TZOFFSETTO:+0100
TZNAME:BST
DTSTART:20220327T010000
END:DAYLIGHT
BEGIN:STANDARD
TZOFFSETFROM:+0100
TZOFFSETTO:+0000
TZNAME:GMT
DTSTART:20221030T010000
END:STANDARD
END:VTIMEZONE
BEGIN:VEVENT
DTSTART;TZID=Europe/London:20210804T201500
DTEND;TZID=Europe/London:20210804T213000
DTSTAMP:20260419T211946
CREATED:20241121T135538Z
LAST-MODIFIED:20241121T135538Z
UID:10005931-1628108100-1628112600@staging.mx5oc.co.uk
SUMMARY:P & P Social Meeting
DESCRIPTION:Our Social Meetings are now back at
URL:https://staging.mx5oc.co.uk/event/peaks-and-pennines-social-meeting-2-2/2021-08-04/
LOCATION:United Kingdom
CATEGORIES:Peaks & Pennines Diary
END:VEVENT
BEGIN:VEVENT
DTSTART;TZID=Europe/London:20210811T183000
DTEND;TZID=Europe/London:20210811T184500
DTSTAMP:20260419T211946
CREATED:20241121T135538Z
LAST-MODIFIED:20241121T135538Z
UID:10006585-1628706600-1628707500@staging.mx5oc.co.uk
SUMMARY:WESTERN Club Night at The Cross Hands
DESCRIPTION:
URL:https://staging.mx5oc.co.uk/event/club-night-at-the-cross-hands/2021-08-11/
LOCATION:Yorkshire Ridings
CATEGORIES:Western Diary
END:VEVENT
BEGIN:VEVENT
DTSTART;TZID=Europe/London:20210818T190000
DTEND;TZID=Europe/London:20210818T223000
DTSTAMP:20260419T211946
CREATED:20241121T135538Z
LAST-MODIFIED:20241121T135538Z
UID:10006669-1629313200-1629325800@staging.mx5oc.co.uk
SUMMARY:Western Club Night at The Salt House Clevedon
DESCRIPTION:
URL:https://staging.mx5oc.co.uk/event/club-night-at-the-salt-house-clevedon/2021-08-18/
LOCATION:peaks_pennines_web
CATEGORIES:Western Diary
END:VEVENT
END:VCALENDAR